BEGIN:VCALENDAR
VERSION:2.0
PRODID:-//Στέγη Ελληνικών Χορωδιών - ECPv6.6.4.2//NONSGML v1.0//EN
CALSCALE:GREGORIAN
METHOD:PUBLISH
X-ORIGINAL-URL:https://www.stegi-chorus.gr
X-WR-CALDESC:Events for Στέγη Ελληνικών Χορωδιών
REFRESH-INTERVAL;VALUE=DURATION:PT1H
X-Robots-Tag:noindex
X-PUBLISHED-TTL:PT1H
BEGIN:VTIMEZONE
TZID:Europe/Athens
BEGIN:DAYLIGHT
TZOFFSETFROM:+0200
TZOFFSETTO:+0300
TZNAME:EEST
DTSTART:20160327T010000
END:DAYLIGHT
BEGIN:STANDARD
TZOFFSETFROM:+0300
TZOFFSETTO:+0200
TZNAME:EET
DTSTART:20161030T010000
END:STANDARD
END:VTIMEZONE
BEGIN:VEVENT
DTSTART;TZID=Europe/Athens:20160120T200000
DTEND;TZID=Europe/Athens:20160120T220000
DTSTAMP:20260421T040654
CREATED:20160118T114857Z
LAST-MODIFIED:20160118T120129Z
UID:3690-1453320000-1453327200@www.stegi-chorus.gr
SUMMARY:Συναυλία-Αφιέρωμα Θ. Φωκαέως
DESCRIPTION:Με ιδιαίτερη επιτυχία στέφθηκε η εκδήλωση της χορωδίας «Θεόδωρος Φωκαεύς» αφιερωμένη στην «διαχρονική ιστορία της Βυζαντινής μουσικής» στον Μητροπολιτικό ναό Ευαγγελιστρίας Πατρών\, την Κυριακή 13 Δεκεμβρίου 2015\, στις 7.00μμ\, στον οποίο ο Βυζαντινός χορός πραγματοποίησε την καλύτερή του συναυλία των τελευταίων ετών στην πόλη μας. Η εκδήλωση που έγινε υπό την αιγίδα της Ιεράς Μητροπόλεως Πατρών και την στήριξη της Στέγης Ελληνικών χορωδιών\, αποτελεί μια υλοποίηση σχετικής πρότασης της Χριστιανικής Στέγης Πατρών\, η οποία σε συνεργασία με τον Πολιτιστικό Όμιλο «Θεόδωρος Φωκαεύς» διοργάνωσε και περάτωσε με πλήρη επιτυχία το ευγενές αυτό εγχείρημα.
URL:https://www.stegi-chorus.gr/event/%cf%83%cf%85%ce%bd%ce%b1%cf%85%ce%bb%ce%af%ce%b1-%ce%b1%cf%86%ce%b9%ce%ad%cf%81%cf%89%ce%bc%ce%b1/
LOCATION:Ανώνυμος Χώρος Διεξαγωγής\, Πάτρα\, Ελλάδα
CATEGORIES:Εκδηλώσεις Μελών
ATTACH;FMTTYPE=image/jpeg:https://www.stegi-chorus.gr/wp-content/uploads/2016/01/georgopoulos-mitropoli-6.jpg
END:VEVENT
BEGIN:VEVENT
DTSTART;TZID=Europe/Athens:20160127T213000
DTEND;TZID=Europe/Athens:20160127T213000
DTSTAMP:20260421T040654
CREATED:20160125T122128Z
LAST-MODIFIED:20160125T122415Z
UID:3906-1453930200-1453930200@www.stegi-chorus.gr
SUMMARY:Κοπή Πρωτοχρονιάτικης Πίτας Ελληνικού Ωδείου Πύργου
DESCRIPTION:Το Ελληνικό Ωδείο Πύργου – Μουσικός Σύλλογος «ΟΡΦΕΥΣ» θα πραγματοποιήσει την καθιερωμένη εκδήλωσή του  για την κοπή της Πρωτοχρονιάτικης Πίτας \, την Τετάρτη 27 Ιανουαρίου 2016 και ώρα 7:30 το απόγευμα\, στον χώρο του Ωδείου. \nΤην εκδήλωση θα πλαισιώσει σύντομο καλλιτεχνικό πρόγραμμα από καθηγητές του Ωδείου που θα παρουσιάσουν γερμανικά Lieder και παλιά ελληνικά τραγούδια. \nΚαλούμε όλους τους φίλους\, τα μέλη \, τους μαθητές του Ωδείου με τους γονείς τους να παραβρεθούν και να γιορτάσουμε μαζί το ξεκίνημα της νέας χρονιάς\, δίνοντας στα παιδιά χαρά και ελπίδα για να συνεχίσουν με περισσότερη δύναμη την προσπάθειά τους. \n \nΤΟ ΕΛΛΗΝΙΚΟ ΩΔΕΙΟ ΠΥΡΓΟΥ ΣΑΣ ΕΥΧΕΤΑΙ ΚΑΛΗ ΧΡΟΝΙΑ ΜΕ ΥΓΕΙΑ ΚΑΙ ΔΗΜΙΟΥΡΓΙΑ! \nΠληροφορίες & Εγγραφές  \nΚάθε Απόγευμα  16:30 – 20:30 και Σάββατο 10:00 – 13:00. \nΤηλέφωνο επικοινωνίας : 26210-33179\, e-mail: odeonpyrgou@gmail.com \n28ης Οκτωβρίου 38\,  27131 Πύργος. \nΕλληνικό Ωδείο Πύργου  83 Χρόνια Πολιτιστικής Προσφοράς. \n 
URL:https://www.stegi-chorus.gr/event/%ce%ba%ce%bf%cf%80%ce%ae-%cf%80%cf%81%cf%89%cf%84%ce%bf%cf%87%cf%81%ce%bf%ce%bd%ce%b9%ce%ac%cf%84%ce%b9%ce%ba%ce%b7%cf%82-%cf%80%ce%af%cf%84%ce%b1%cf%82-%ce%b5%ce%bb%ce%bb%ce%b7%ce%bd%ce%b9%ce%ba/
LOCATION:Ελληνικό Ωδείο Πύργου\, 28ης Οκτωβρίου 38\, Πύργος\, 27131 \, Ελλάδα
CATEGORIES:Εκδηλώσεις Μελών
ATTACH;FMTTYPE=image/jpeg:https://www.stegi-chorus.gr/wp-content/uploads/2016/01/11332529_10206734086135821_1535944702_o.jpg
END:VEVENT
BEGIN:VEVENT
DTSTART;TZID=Europe/Athens:20160128T200000
DTEND;TZID=Europe/Athens:20160128T210000
DTSTAMP:20260421T040654
CREATED:20160118T114138Z
LAST-MODIFIED:20160118T120335Z
UID:3687-1454011200-1454014800@www.stegi-chorus.gr
SUMMARY:Έναρξη Νέου Ιστότοπου Στέγης
DESCRIPTION:Έρχεται! Έρχεται! Έρχεται! Έρχεται! Έρχεται! Έρχεται!
URL:https://www.stegi-chorus.gr/event/%ce%ad%ce%bd%ce%b1%cf%81%ce%be%ce%b7-%ce%bd%ce%ad%ce%bf%cf%85-%ce%b9%cf%83%cf%84%cf%8c%cf%84%ce%bf%cf%80%ce%bf%cf%85-%cf%83%cf%84%ce%ad%ce%b3%ce%b7%cf%82/
LOCATION:Μέγαρο Μουσικής Αθηνών\,  Λ. Βασιλίσσης Σοφίας & Κόκκαλη\, Αθήνα\, 11521\, Ελλάδα
CATEGORIES:Εκδηλώσεις Μελών
ATTACH;FMTTYPE=image/jpeg:https://www.stegi-chorus.gr/wp-content/uploads/2016/01/stegi-logo-2015-front280.jpg
END:VEVENT
BEGIN:VEVENT
DTSTART;TZID=Europe/Athens:20160129T223000
DTEND;TZID=Europe/Athens:20160131T220000
DTSTAMP:20260421T040654
CREATED:20160121T145453Z
LAST-MODIFIED:20160205T101821Z
UID:3902-1454106600-1454277600@www.stegi-chorus.gr
SUMMARY:2ο Μουσικό Φεστιβάλ Κιθάρας του Ωδείου της Πολυφωνικής Πάτρας
DESCRIPTION:Πραγματοποιείται για δεύτερη συνεχόμενη χρονιά\, το τριήμερο ΜΟΥΣΙΚΟ ΦΕΣΤΙΒΑΛ ΚΙΘΑΡΑΣ ‘’6 χορδές μία Ορχήστρα’’\, του ΩΔΕΙΟΥ της ΠΟΛΥΦΩΝΙΚΗΣ [Διεύθυνση: Γιώργος Μπουρδόπουλος\, Διοικητική Διευθύντρια: Εφη Καββαδία-Ζέρβα]\, από 29-31 Ιανουαρίου\, στις εγκαταστάσεις του Οργανισμού [αίθουσα συναυλιών ‘’Τόλης Νομικός’’]\, με ελεύθερη είσοδο για το κοινό. \nΣυγκεκριμένα την Παρασκευή 29 Ιανουαρίου\, στις 8.30 το βράδυ\, η δημοσιογράφος Ρούλα Κωστακοπούλου και ο καθηγητής της κιθάρας του Ωδείου\, Γιώργος Αθανασακόπουλος\, θα ανοίξουν το Φεστιβάλ με μία ζωντανή ραδιοφωνική παράσταση\, με θέμα: ‘’Λόγος πεζός- λόγος μουσικός’’. Μουσικά διαλείμματα\, με τη συμμετοχή του σπουδαστή κιθάρας\, Βασίλη Διαμαντόπουλου. \n  \nΤο Σάββατο 30 Ιανουαρίου\, στις 5 το απόγευμα\, \nοι καθηγητές του Ωδείου\, Βασίλης Τζιατζιάς και Γιώργος Αθανασακόπουλος\, θα φτιάξουν από κοινού μία τάξη με θέμα: ‘’Ήχος φυσικός- ήχος ηλεκτρικός’’\, ενώ στις 8 το βράδυ\, νέοι κιθαριστές θα παρουσιάσουν τα μουσικά τους συναισθήματα\, μέσ’ από ένα μουσικό ταξίδι με θέμα: ‘’Ο μικρός κιθαριστής’’. \n  \nΤην Κυριακή τέλος\, 31η Ιανουαρίου\, στις 4 το απόγευμα\, από κοινού με το μουσικοσυνθέτη Μιχάλη Τσακίρη\, θα δημιουργηθεί STUDIO\, όπου οι μετέχοντες θα μπορούν να ηχογραφήσουν τα τραγούδια τους. Το βράδυ της ίδιας ημέρας στις 8\, το Φεστιβάλ θα κλείσει τις εργασίες του\, με συναυλία έργων του Μάνου Χατζιδάκι\, για κιθάρα και μαντολίνο\, με τους καθηγητές του Ωδείου\, Τέτη Ζέρβα και Γιώργο Αθανασακόπουλο και το Ορχηστρικό Σχήμα ‘’VIBRATO’’ του Οργανισμού [Διεύθυνση: Γιώργος Αθανασακόπουλος- φωνή: Δέσποινα Κριμπά]. \n  \n Για το εργαστήρι ‘’Ήχος φυσικός- ήχος ηλεκτρικός’’ και για το ‘’Studio’’\, απαιτείται ΔΗΛΩΣΗ ΣΥΜΜΕΤΟΧΗΣ\, στη Γραμματεία του Οργανισμού [Κορίνθου 280- Γούναρη\, τηλ. 2610 222.248\, 2610 279.679. E-mail: choir@polyphonikipatras.gr]. \n  \nTo 2o Μουσικό Φεστιβάλ κιθάρας\, υποστηρίζει η επιχείρηση μουσικών οργάνων: Music Station.
URL:https://www.stegi-chorus.gr/event/2%ce%bf-%ce%bc%ce%bf%cf%85%cf%83%ce%b9%ce%ba%cf%8c-%cf%86%ce%b5%cf%83%cf%84%ce%b9%ce%b2%ce%ac%ce%bb-%ce%ba%ce%b9%ce%b8%ce%ac%cf%81%ce%b1%cf%82-6-%cf%87%ce%bf%cf%81%ce%b4%ce%ad%cf%82-%ce%bc%ce%af/
LOCATION:Αίθουσα συναυλιών ‘’Τόλης Νομικός’’\, Εγκαταστάσεις του Οργανισμού\, Πάτρα\, Ελλάδα
CATEGORIES:Εκδηλώσεις Μελών,Φεστιβάλ Εσωτερικού
ATTACH;FMTTYPE=image/jpeg:https://www.stegi-chorus.gr/wp-content/uploads/2016/01/ΑΦΙΣΑ-ΦΕΣΤΙΒΑΛ-ΚΙΘΑΡΑΣ-2016.jpg
END:VEVENT
BEGIN:VEVENT
DTSTART;TZID=Europe/Athens:20160131T180000
DTEND;TZID=Europe/Athens:20160131T210000
DTSTAMP:20260421T040654
CREATED:20160128T214216Z
LAST-MODIFIED:20160128T215005Z
UID:3914-1454263200-1454274000@www.stegi-chorus.gr
SUMMARY:Ετήσια Γενική Εκλογοαπολογιστική Συνέλευση της Χορωδίας ΟΡΦΕΑΣ Τρίπολης
DESCRIPTION:Το Διοικητικό Συμβούλιο της Χορωδίας «ΟΡΦΕΑΣ» Τρίπολης\, καλεί τα τακτικά μέλη του Σωματείου στην Ετήσια Τακτική Γενική Συνέλευση\, που θα πραγματοποιηθεί σύμφωνα με τα άρθρα 9\, 18 και 19 του Καταστατικού και ύστερα από σχετική απόφαση του ΔΣ\, την Κυριακή 31 Ιανουαρίου 2016 και ώρα 18:00 στα εντευκτήρια του «ΟΡΦΕΑ»\, με τα ακόλουθα θέματα ημερήσιας διάταξης: \n1. Διοικητικός Απολογισμός έτους 2015\n2. Οικονομικός Απολογισμός έτους 2015 – Έκθεση Εξελεγκτικής Επιτροπής\n3. Προϋπολογισμός έτους 2016\n4. Προτάσεις οικονομικής εξέλιξης του Σωματείου\n5. Αρχαιρεσίες για την ανάδειξη νέου Διοικητικού Συμβουλίου και Εξελεγκτικής Επιτροπής. \nΣε περίπτωση μη ύπαρξης απαρτίας η Γενική Συνέλευση θα επαναληφθεί το Σάββατο 6 Φεβρουαρίου 2016 στον ίδιο τόπο και χρόνο με όσα μέλη είναι παρόντα\, χωρίς άλλη ειδοποίηση.\nΗ υποβολή υποψηφιοτήτων για το νέο Διοικητικό Συμβούλιο και την Εξελεγκτική Επιτροπή\, θα γίνεται με έγγραφη δήλωση στα γραφεία του «Ορφέα» από την Δευτέρα 25-01-2016 έως και την Πέμπτη 28-01-2016 κατά τις ώρες 19:00 – 21:00\, οπότε σύμφωνα με το άρθρο 9 του καταστατικού λήγει η προθεσμία υποβολής τους.
URL:https://www.stegi-chorus.gr/event/%ce%b5%cf%84%ce%ae%cf%83%ce%b9%ce%b1-%ce%b3%ce%b5%ce%bd%ce%b9%ce%ba%ce%ae-%ce%b5%ce%ba%ce%bb%ce%bf%ce%b3%ce%bf%ce%b1%cf%80%ce%bf%ce%bb%ce%bf%ce%b3%ce%b9%cf%83%cf%84%ce%b9%ce%ba%ce%ae-%cf%83%cf%85/
LOCATION:Ετευκτήριο «ΟΡΦΕΑ»\, Φωτάκου 10\, Τρίπολη\, 22100\, Ελλάδα
CATEGORIES:Εκδηλώσεις Μελών
ATTACH;FMTTYPE=image/jpeg:https://www.stegi-chorus.gr/wp-content/uploads/2016/01/orfeas-tripolis-e1455194503146.jpg
END:VEVENT
END:VCALENDAR