BEGIN:VCALENDAR
VERSION:2.0
PRODID:-//Στέγη Ελληνικών Χορωδιών - ECPv6.6.4.2//NONSGML v1.0//EN
CALSCALE:GREGORIAN
METHOD:PUBLISH
X-WR-CALNAME:Στέγη Ελληνικών Χορωδιών
X-ORIGINAL-URL:https://www.stegi-chorus.gr
X-WR-CALDESC:Events for Στέγη Ελληνικών Χορωδιών
REFRESH-INTERVAL;VALUE=DURATION:PT1H
X-Robots-Tag:noindex
X-PUBLISHED-TTL:PT1H
BEGIN:VTIMEZONE
TZID:Europe/Athens
BEGIN:DAYLIGHT
TZOFFSETFROM:+0200
TZOFFSETTO:+0300
TZNAME:EEST
DTSTART:20160327T010000
END:DAYLIGHT
BEGIN:STANDARD
TZOFFSETFROM:+0300
TZOFFSETTO:+0200
TZNAME:EET
DTSTART:20161030T010000
END:STANDARD
END:VTIMEZONE
BEGIN:VEVENT
DTSTART;TZID=Europe/Athens:20160409T200000
DTEND;TZID=Europe/Athens:20160409T200000
DTSTAMP:20260421T000638
CREATED:20160405T141147Z
LAST-MODIFIED:20160405T141147Z
UID:4585-1460232000-1460232000@www.stegi-chorus.gr
SUMMARY:¨Ευαγγελίστρια 2016¨ με την συμμετοχή της Βυζαντινής Παραδοσιακής Χορωδίας «ΘΕΟΔΩΡΟΣ ΦΩΚΑΕΥΣ»
DESCRIPTION:Το Σάββατο στις 9 Απριλίου 2016 και ώρα 7.00 μ.μ. \, η Βυζαντινή Παραδοσιακή Χορωδία «ΘΕΟΔΩΡΟΣ ΦΩΚΑΕΥΣ» υπό την διεύθυνση του Πρωτοψάλτη & Μουσικοδιδάσκαλου Χαράλαμπου Θεοτοκάτου\, πρόκειται να πραγματοποιήσει Συναυλία Βυζαντινής  Εκκλησιαστικής Μουσικής στα πλαίσια των ¨Ευαγγελιστριών 2016¨\, με τον Βυζαντινό Χορό ” ΕΝ ΨΑΛΤΗΡΙΩ”. \nΣυμμετέχει ο Παιδικός Χορός του Σχολείου Ψαλτικής. Διευθύνει ο Πρωτοψάλτης Κωνσταντίνος Φωτόπουλος. \nΗ συναυλία θα λάβει μέρος στον Ι.Ν. Ευαγγελίστριας Πειραιώς. \n 
URL:https://www.stegi-chorus.gr/event/%c2%a8%ce%b5%cf%85%ce%b1%ce%b3%ce%b3%ce%b5%ce%bb%ce%af%cf%83%cf%84%cf%81%ce%b9%ce%b1-2016%c2%a8-%ce%bc%ce%b5-%cf%84%ce%b7%ce%bd-%cf%83%cf%85%ce%bc%ce%bc%ce%b5%cf%84%ce%bf%cf%87%ce%ae-%cf%84%ce%b7/
LOCATION:Ι.Ν. Ευαγγελίστριας Πειραιώς\, Αθήνα\, Ελλάδα
CATEGORIES:Εκδηλώσεις Μελών,Προτάσεις
END:VEVENT
BEGIN:VEVENT
DTSTART;TZID=Europe/Athens:20160416T203000
DTEND;TZID=Europe/Athens:20160416T203000
DTSTAMP:20260421T000638
CREATED:20160408T040038Z
LAST-MODIFIED:20160408T043521Z
UID:4626-1460838600-1460838600@www.stegi-chorus.gr
SUMMARY:Αφιέρωμα στον Μάνο Χατζιδάκι και Νίκο Γκάτσο από την Χορωδία της Λέσχης Φιλομούσων Λάρισας
DESCRIPTION:Η Χορωδία της Λέσχης Φιλομούσων Λάρισας ( γυναικείο & μεικτό τμήμα )\,υπό τη δ/νση της κ. Μάγδας Αλεξανδρή – Δημόκα\, διοργανώνει χορωδιακή εκδήλωση – αφιέρωμα στους μεγάλους δημιουργούς Μάνο Χατζιδάκι και Νίκο Γκάτσο στις 16-4 -2016\, ημέρα Σάββατο και ώρα 19.30\, στην αίθουσα του Δημοτικού Ωδείου Λάρισας. \nΣτη συναυλία θα λάβει μέρος και η Χορωδία του Θουκυδίδειου Πολιτιστικού Οργανισμού Δήμου Αλίμου υπό τη δ/νση του κ. Γιώργου Μπακόπουλου. \nΗ όλη εκδήλωση τελεί υπό την αιγίδα της Περ/κής Ενότητας Λάρισας και της Αντιδημαρχίας Πολιτισμού & Επιστημών του Δήμου Λαρισαίων και τελείται σε συνεργασία με το Δημοτικό Ωδείο Λάρισας
URL:https://www.stegi-chorus.gr/event/%ce%b1%cf%86%ce%b9%ce%ad%cf%81%cf%89%ce%bc%ce%b1-%cf%83%cf%84%ce%bf%ce%bd-%ce%bc%ce%ac%ce%bd%ce%bf-%cf%87%ce%b1%cf%84%ce%b6%ce%b9%ce%b4%ce%ac%ce%ba%ce%b9-%ce%ba%ce%b1%ce%b9-%ce%bd%ce%af%ce%ba%ce%bf/
LOCATION:Δημοτικού Ωδείου Λάρισας\, Λάρισα\, Ελλάδα
CATEGORIES:Εκδηλώσεις Μελών
END:VEVENT
BEGIN:VEVENT
DTSTART;TZID=Europe/Athens:20160418T213000
DTEND;TZID=Europe/Athens:20160418T213000
DTSTAMP:20260421T000638
CREATED:20160405T142025Z
LAST-MODIFIED:20160405T142025Z
UID:4598-1461015000-1461015000@www.stegi-chorus.gr
SUMMARY:Ωδές και Ικεσία
DESCRIPTION:Αρχίζει την Τρίτη η προπώληση των εισιτηρίων\, της πρώτης από τις δύο μεγάλες Πασχαλινές συναυλίες\, που ετοιμάζει η ΠΟΛΥΦΩΝΙΚΗ\, με το γενικό τίτλο: ‘’ΩΔΕΣ ΚΑΙ ΙΚΕΣΙΑ’’ και η οποία θα πραγματοποιηθεί στο Συνεδριακό και Πολιτιστικό Κέντρο του Πανεπιστημίου Πατρών\, τη ΔΕΥΤΕΡΑ 18 Απριλίου (εβδομάδα πριν από τη Μεγάλη) στις 8.30 το βράδυ\, με τη συμμετοχή της ΜΙΚΤΗΣ ΧΟΡΩΔΙΑΣ (Διεύθυνση: Σταύρος Σολωμός)\, της ΦΙΛΑΡΜΟΝΙΚΗΣ ΟΡΧΗΣΤΡΑΣ (Διεύθυνση: Αρχιμουσικός\, Γιώργος Μπουρδόπουλος) και της ΝΕΑΝΙΚΗΣ ΧΟΡΩΔΙΑΣ (Διεύθυνση: Ελένη Παπαδοπούλου- Αραβαντινού). \nΣτη συναυλία θα ερμηνευτεί για πρώτη φορά στην Πάτρα\, το ‘’Πνευματικό εμβατήριο’’ του Άγγελου Σικελιανού\, σε μουσική\, Μίκη Θεοδωράκη\, και σε επεξεργασία για Φιλαρμονική Ορχήστρα\, σολίστ και Μικτή Χορωδία του Βασίλη Τενίδη. Τα σολιστικά μέρη θα ερμηνεύσει ο διακεκριμένος βαρύτονος\, Αρκάδιος Ρακόπουλος. \nΕκτός των άλλων επίκαιρων Ύμνων και θρησκευτικών έργων\, θα ερμηνευτούν\, η λειτουργία του Βέλγου συνθέτη\, Andre Waignein: ‘’ Missa Tornacum’’\, αλλά και το έργο του σύγχρονου Έλληνα συνθέτη και Ακαδημαϊκού\, Θεόδωρου Αντωνίου: ‘’Οράσοις όψονται’’ [προφητεία Ιωήλ]. Στο ρόλο του αναγνώστη\, ο καταξιωμένος Πατρινός λογοτέχνης- φιλόλογος\, Κώστας Λογαράς. \nΣτη συναυλία θα μετάσχει ακόμα\, η διεθνούς φήμης μέτζο σοπράνο\, Ειρήνη Καράγιαννη\, την οποία θα συνοδεύσει στο πιάνο\, η Αναπληρώτρια Καλλιτεχνική Διευθύντρια του Οργανισμού\, Έφη Καββαδία- Ζέρβα. \nΗ προπώληση των εισιτηρίων \n(γενική είσοδος € 10.-\, φοιτητές- μαθητές\, άνεργοι\, μέλη του Οργανισμού € 7.-) για τη μεγάλη αυτή συναυλία\, θα γίνεται από τα καταστήματα ‘’Discover your Way’’ και οπτικά ‘’Καραμούζη’’\, αλλά και από τα γραφεία του Οργανισμού και θα είναι ανάριθμα. \n Η συναυλία θα πραγματοποιηθεί με την υποστήριξη του ΟΡΓΑΝΙΣΜΟΥ ΛΙΜΕΝΟΣ ΠΑΤΡΩΝ και θα μεταδοθεί απ’ ευθείας από την ΕΡΤ ΠΑΤΡΑΣ. ΜΕΓΑΣ ΧΟΡΗΓΟΣ θα είναι το IONIAN CHANNEL. Χορηγοί: ELITE\, Κατάστημα ‘’Mπιζζζ!’’ και Εστιατόριο ‘’Αλάμπρα’’. Χορηγοί επικοινωνίας: οι εφημερίδες ΠΕΛΟΠΟΝΝΗΣΟΣ\, ΣΥΜΒΟΥΛΟΣ ΕΠΙΧΕΙΡΗΣΕΩΝ\, ΑΧΑΙΚΟΣ ΤΥΠΟΣ\, ο τηλεοπτικός σταθμός LEPANTO T/V\, \nΟι ιστότοποι: ΤΗΕ BEST\, TEMPO 24\, PATRAS EVENTS\, JUNIORS CLUB και ο ραδιοφωνικός σταθμός ΑΝΤ1 RADIO PATRAS. \nΠληροφορίες\, στη Γραμματεία του Οργανισμού\, Κορίνθου 280- Γούναρη\, τηλ. 2610 222.248 και 2610 279.679\, καθημερινά πρωί και απόγευμα. www.polyphonikipatras.gr
URL:https://www.stegi-chorus.gr/event/%cf%89%ce%b4%ce%ad%cf%82-%ce%ba%ce%b1%ce%b9-%ce%b9%ce%ba%ce%b5%cf%83%ce%af%ce%b1/
LOCATION:Συνεδριακό και Πολιτιστικό Κέντρο του Πανεπιστημίου Πατρών\, Πάτρα\, Ελλάδα
CATEGORIES:Εκδηλώσεις Μελών
END:VEVENT
BEGIN:VEVENT
DTSTART;TZID=Europe/Athens:20160420T210000
DTEND;TZID=Europe/Athens:20160420T210000
DTSTAMP:20260421T000638
CREATED:20160415T095340Z
LAST-MODIFIED:20160415T095340Z
UID:4707-1461186000-1461186000@www.stegi-chorus.gr
SUMMARY:Πορεία προς το Πάθος- Ύμνοι και Θρήνος
DESCRIPTION:Δεύτερη μεγάλη συναυλία της ΠΟΛΥΦΩΝΙΚΗΣ\, με το γενικό τίτλο: ‘’Πορεία προς το Πάθος- ΄Ύμνοι και Θρήνος’’ και η οποία θα πραγματοποιηθεί στο Συνεδριακό Κέντρο του ΤΕΙ Πάτρας\, τη Τετάρτη 20 Απριλίου (εβδομάδα πριν από τη Μεγάλη) στις 8.00 το βράδυ\, με τη συμμετοχή των τμημάτων του Οργανισμού: ΒΥΖΑΝΤΙΝΟΣ ΧΟΡΟΣ (Διεύθυνση: Γιάννης Κόττορος)\, Γ.Φ.Σ. ‘’ΕΜΜΕΛΕΙΑ’’ (Διεύθυνση: Αρετούσα Νικολοπούλου- Αλμπένα Πένκοβα)\, αλλά και Ορχήστρας Παραδοσιακής μουσικής\, υπό τη γενική επιμέλεια\, διδασκαλία και μουσική διεύθυνση του Διευθυντού του Εκκλησιαστικού Λυκείου Πατρών\, καθηγητού Βυζαντινής Μουσικής και Πρωτοψάλτου\, Γιάννη Κόττορου. \nΗ συναυλία θα είναι αφιερωμένη εξ ολοκλήρου στη μυσταγωγική Αγία και Μεγάλη Εβδομάδα\, μέσα από τους Ύμνους της Εκκλησίας και τους θρήνους της Ελληνικής παράδοσης. \nΚεντρικός ομιλητής θα είναι ο Σεβασμιώτατος Μητροπολίτης Πατρών κ.κ. Χρυσόστομος\, ενώ θα λάβουν μέρος η διαπρεπής ηθοποιός και δασκάλα υποκριτικής του Τμήματος Θεατρικών Σπουδών του Πανεπιστημίου Πατρών\, Βάσω Σακελλάρη (αφηγήσεις- θρήνους)\, και η γνωστή Υμνωδός- ερμηνεύτρια παραδοσιακού τραγουδιού\, Ξένια Βέρρα. Στο ρόλο του αναγνώστη\, ο Θεολόγος και μέλος του Βυζαντινού Χορού της ΠΟΛΥΦΩΝΙΚΗΣ\, Λουκάς Καρτέρης \nΣτην Ορχήστρα θα λάβουν μέρος: Μανώλης Κόττορος (βιολί)\, Γιώργος Κοτσίνης (κλαρίνο\, φλογέρα)\, Γιάννης Παναγιωτόπουλος (πολίτικη λύρα- ούτι)\, Γιάννης Τσεντούρος (κρουστά) και Κώστας Τσαρούχης (Κόντρα μπάσο). \nΗ είσοδος για το κοινό θα είναι ελεύθερη \nΗ συναυλία θα πραγματοποιηθεί με την υποστήριξη του ΟΡΓΑΝΙΣΜΟΥ ΛΙΜΕΝΟΣ ΠΑΤΡΩΝ και θα μεταδοθεί απ’ ευθείας ραδιοφωνικά\, από την ΕΡΤ ΠΑΤΡΑΣ. ΜΕΓΑΣ ΧΟΡΗΓΟΣ θα είναι η εταιρεία CARNA και το IONIAN CHANNEL. Χορηγοί: ELITE- Πατραϊκή Χαρτοποιία\, MIELE- Μιχαηλίδης\, Κατάστημα ‘’Mπιζζζ!’’ και Εστιατόριο ‘’Αλάμπρα’’. Χορηγοί επικοινωνίας: οι εφημερίδες ΠΕΛΟΠΟΝΝΗΣΟΣ\, ΣΥΜΒΟΥΛΟΣ ΕΠΙΧΕΙΡΗΣΕΩΝ\, ΑΧΑΙΚΟΣ ΤΥΠΟΣ\, ο τηλεοπτικός σταθμός LEPANTO T/V\, οι ιστότοποι ΤΗΕ BEST\, TEMPO 24\, PATRAS EVENTS\, JUNIORS CLUB και ο ραδιοφωνικός σταθμός ΑΝΤ1 RADIO PATRAS. \nΠληροφορίες\, στη Γραμματεία του Οργανισμού\, Κορίνθου 280- Γούναρη\, τηλ. 2610 222.248 και 2610 279.679\, καθημερινά πρωί και απόγευμα. www.polyphonikipatras.gr \n 
URL:https://www.stegi-chorus.gr/event/%cf%80%ce%bf%cf%81%ce%b5%ce%af%ce%b1-%cf%80%cf%81%ce%bf%cf%82-%cf%84%ce%bf-%cf%80%ce%ac%ce%b8%ce%bf%cf%82-%cf%8d%ce%bc%ce%bd%ce%bf%ce%b9-%ce%ba%ce%b1%ce%b9-%ce%b8%cf%81%ce%ae%ce%bd%ce%bf%cf%82-2/
LOCATION:Συνεδριακό Κέντρο του ΤΕΙ Πάτρας\, Πάτρα\, Ελλάδα
CATEGORIES:Εκδηλώσεις Μελών,Προτάσεις
END:VEVENT
BEGIN:VEVENT
DTSTART;TZID=Europe/Athens:20160420T210000
DTEND;TZID=Europe/Athens:20160420T210000
DTSTAMP:20260421T000638
CREATED:20160419T035042Z
LAST-MODIFIED:20160419T035042Z
UID:4721-1461186000-1461186000@www.stegi-chorus.gr
SUMMARY:Συναυλία Θρησκευτικής Μουσικής
DESCRIPTION:Η χορωδία του καλλιτεχνικού εργαστηρίου ¨Μαρσύας¨ υπο την διεύθυνση του μαέστρου Νίκου Καριώτη\, πρόκειται να πραγματοποιήσει Συναυλία Θρησκευτικής Μουσικής\, με Χορωδιακά έργα και άριες από την αναγέννηση ως τις ημέρες μας\, την Τετάρτη στις 20 Απριλίου 2016 και ώρα 8:00 μ.μ. στον Ιερό Καθολικό Ναό του Άγιου Λουκά. \nΗ είσοδος για το κοινό είναι ελεύθερη.
URL:https://www.stegi-chorus.gr/event/%cf%83%cf%85%ce%bd%ce%b1%cf%85%ce%bb%ce%af%ce%b1-%ce%b8%cf%81%ce%b7%cf%83%ce%ba%ce%b5%cf%85%cf%84%ce%b9%ce%ba%ce%ae%cf%82-%ce%bc%ce%bf%cf%85%cf%83%ce%b9%ce%ba%ce%ae%cf%82/
LOCATION:Ιερός Καθολικός Ναός του Άγιου Λουκά\, Αγ. Λουκά 1 & Λεωφόρος Ηρακλείου\, Ελλάδα
CATEGORIES:Εκδηλώσεις Μελών
END:VEVENT
BEGIN:VEVENT
DTSTART;TZID=Europe/Athens:20160423T200000
DTEND;TZID=Europe/Athens:20160423T200000
DTSTAMP:20260421T000638
CREATED:20160420T040940Z
LAST-MODIFIED:20160420T040940Z
UID:4760-1461441600-1461441600@www.stegi-chorus.gr
SUMMARY:Των Παθών και της Ανάστασης
DESCRIPTION:…¨Των Παθών και της Ανάστασης¨ Βραδιά Θρησκευτικής Μουσικής πρόκειται να πραγματοποιηθεί\, από την Μικτή Χορωδία Συλλόγου Υπαλλήλων Τραπέζης Ελλάδος\, το Σάββατο στις 23 Απριλίου 2016 και ώρα 7:00 μ.μ. στο Πολιτιστικό Κέντρο Δήμου Κηφισιάς. \nΔιευθύνει ο Κώστας Ευαγγελάτος\, στο πιάνο συνοδεύει η Ευγενία Βοτανοπούλου. \nΗ μουσική βραδιά είναι μια διοργάνωση του Καλλιτεχνικού και Πολιτιστικού Συλλόγου ¨Τροβαδούροι Κηφισιάς¨. \nΗ είσοδος για το κοινό είναι ελεύθερη. \nΠ Ρ Ο Γ Ρ Α ΜΜΑ \n\n\nAdoramus Francesco Rosselli (γεν. 1520)\nO Haupt voll Blut und Wunden (Choral από τα από τα «κατά Ματθαίον Πάθη») Johann S. Bach (1685 – 1750\nAve Verum Corpus Wolfgang Amadeus Mozart (1756-1787)\nGloria  (από τη Misa Criolla) Ariel Ramirez (1921-2010)  soli: Κώστας Μπιλίσης\, Μάνος Σαρμπάνης\, tenori\nAch großer König (Choral από τα «κατά Ιωάννην Πάθη») J. S. Bach. \nΤρία αποσπάσματα από το Requiem \, KV 626 του W.A Mozartβ.\n\n\n                     α. introitus \, solo: Χρυσάνθη Δενδρή\, soprano \n                     β. Kyrie \n                     γ. Lacrimosa \n               7. La Vergine degli angeli (από την όπερα “La forza del Destino”) \n                    Giuseppe Verdi solo:Λώρα Πετροπούλου\, soprano \n               8. And the Glory of the Lord (από το ορατόριο «Μεσσίας») \n                     George F. Handel (1685-1789) \n               9. Ave Maria Frantz Schubert (1797 – 1828)  solo:Λητώ Μεσσήνη\, soprano \n              10. Cantique de Jean Racine Gabriel Faure (1845-1924) \n              11. Hallelujah (από το ορατόριο «Μεσσίας») George F. Handel
URL:https://www.stegi-chorus.gr/event/%cf%84%cf%89%ce%bd-%cf%80%ce%b1%ce%b8%cf%8e%ce%bd-%ce%ba%ce%b1%ce%b9-%cf%84%ce%b7%cf%82-%ce%b1%ce%bd%ce%ac%cf%83%cf%84%ce%b1%cf%83%ce%b7%cf%82/
LOCATION:Πολιτιστικό Κέντρο Δήμου Κηφισιάς\, Αθήνα\, Ελλάδα
CATEGORIES:Εκδηλώσεις Μελών
END:VEVENT
BEGIN:VEVENT
DTSTART;TZID=Europe/Athens:20160425T213000
DTEND;TZID=Europe/Athens:20160425T230000
DTSTAMP:20260421T000638
CREATED:20160421T075036Z
LAST-MODIFIED:20160421T081124Z
UID:4803-1461619800-1461625200@www.stegi-chorus.gr
SUMMARY:Μια βραδιά\, δύο Ρέκβιεμ - πασχαλινή συναυλία με την "Ambitus"
DESCRIPTION:H Χορωδία “Ambitus” Λεοντείου Λυκείου Νέας Σμύρνης σάς προσκαλεί στην πασχαλινή συναυλία της με τίτλο “Μια βραδιά\, δύο Ρέκβιεμ” στην Α Ελληνική Ευαγγελική Εκκλησία Αθηνών (Αμαλίας 50). Θα ερμηνευτούν τα έργα: \nRequiem op. 48 – Gabriel Fauré\nRequiem – John Rutter \nΣοπράνο: Μαρία Μαυρομμάτη\nΒαρύτονος: Ρωμανός Παπαδημητρίου\nΒιολοντσέλο: Άγγελος Λιακάκης\nΌμποε: Μαρία Σιφναίου\nΠιάνο: Μιχάλης Χανός\nΔιδασκαλία – Διεύθυνση: Κατερίνα Βασιλικού \nΗ είσοδος είναι ελεύθερη
URL:https://www.stegi-chorus.gr/event/%ce%bc%ce%b9%ce%b1-%ce%b2%cf%81%ce%b1%ce%b4%ce%b9%ce%ac-%ce%b4%cf%8d%ce%bf-%cf%81%ce%ad%ce%ba%ce%b2%ce%b9%ce%b5%ce%bc-%cf%80%ce%b1%cf%83%cf%87%ce%b1%ce%bb%ce%b9%ce%bd%ce%ae-%cf%83%cf%85%ce%bd%ce%b1/
LOCATION:Α’ Ελληνική Ευαγγελική Εκκλησία Αθηνών\, Αμαλίας 50\, Αθήνα\, Ελλάδα
CATEGORIES:Εκδηλώσεις Μελών
ATTACH;FMTTYPE=image/jpeg:https://www.stegi-chorus.gr/wp-content/uploads/2016/04/AMBITUS-PASXALINH-μικρή.jpg
END:VEVENT
BEGIN:VEVENT
DTSTART;TZID=Europe/Athens:20160427T213000
DTEND;TZID=Europe/Athens:20160427T233000
DTSTAMP:20260421T000638
CREATED:20160426T111315Z
LAST-MODIFIED:20160426T111315Z
UID:4852-1461792600-1461799800@www.stegi-chorus.gr
SUMMARY:Το Requiem του W. A. Mozart στο Μαλλιαροπούλειο Δημοτικό Θέατρο Τρίπολης
DESCRIPTION:  \n Η επιθυμία του ανθρώπου για μέθεξη με τον Θεό ανέκαθεν μετουσιωνόταν σε μελωδικό άκουσμα\, οδηγώντας δημιουργούς και ακροατές στη λύτρωση μέσα από την τέχνη και τη μουσική. Ακόμα και οι νεκρώσιμες ακολουθίες ή οι πένθιμοι θρήνοι για το Θείο Πάθος στο χριστιανικό κόσμο αποκτούν μιαν υπερβατική διάσταση που πάντοτε συγκινούσε βαθιά τους πιστούς αλλά και το φιλόμουσο κοινό απανταχού της Γης. Μια από τις πλέον αριστουργηματικές συνθέσεις της δυτικοευρωπαϊκής θρησκευτικής μουσικής\, το «Ρέκβιεμ» του Β. Α. Μότσαρτ θα παρουσιαστεί από την χορωδία “ΟΡΦΕΑΣ” Τρίπολης\, για 2η συνεχόμενη χρονιά στην Τρίπολη\, κατά τις πασχαλινές εκδηλώσεις του δήμου Τρίπολης. \nΜεγάλη Τετάρτη\, 27 Απριλίου 2016 | Τρίπολη \nΜαλλιαροπούλειο Δημοτικό Θέατρο Τρίπολης\, ώρα 20.30 | Είσοδος Ελεύθερη  \nΣυμμετέχουν: Μυρσίνη Μαργαρίτη (soprano) | Ελένη Βουδουράκη (mezzo) | Γιάννης Φίλιας (tenor) | Τίμος Σιρλαντζής (basso) \nΧορωδία “ΟΡΦΕΑΣ” Τρίπολης | Μουσική διδασκαλία Χριστίνα Αθανασοπούλου \nΣυνοδεύει συμφωνική ορχήστρα δωματίου \nΔιευθύνει ο Θεόδωρος Γ. Λεμπέσης
URL:https://www.stegi-chorus.gr/event/%cf%84%ce%bf-requiem-%cf%84%ce%bf%cf%85-w-a-mozart-%cf%83%cf%84%ce%bf-%ce%bc%ce%b1%ce%bb%ce%bb%ce%b9%ce%b1%cf%81%ce%bf%cf%80%ce%bf%cf%8d%ce%bb%ce%b5%ce%b9%ce%bf-%ce%b4%ce%b7%ce%bc%ce%bf%cf%84%ce%b9/
LOCATION:Μαλλιαροπούλειο Δημοτικό Θέατρο Τρίπολης\, Πλατεία Πετρινού\, Τρίπολη\, Ελλάδα
CATEGORIES:Εκδηλώσεις Μελών,Προτάσεις
ORGANIZER;CN="X%CE%BF%CF%81%CF%89%CE%B4%CE%AF%CE%B1 %E2%80%9C%CE%9F%CE%A1%CE%A6%CE%95%CE%91%CE%A3%E2%80%9D %CE%A4%CF%81%CE%AF%CF%80%CE%BF%CE%BB%CE%B7%CF%82":MAILTO:info@orfeastripolis.gr
END:VEVENT
END:VCALENDAR