BEGIN:VCALENDAR
VERSION:2.0
PRODID:-//Στέγη Ελληνικών Χορωδιών - ECPv6.6.4.2//NONSGML v1.0//EN
CALSCALE:GREGORIAN
METHOD:PUBLISH
X-WR-CALNAME:Στέγη Ελληνικών Χορωδιών
X-ORIGINAL-URL:https://www.stegi-chorus.gr
X-WR-CALDESC:Events for Στέγη Ελληνικών Χορωδιών
REFRESH-INTERVAL;VALUE=DURATION:PT1H
X-Robots-Tag:noindex
X-PUBLISHED-TTL:PT1H
BEGIN:VTIMEZONE
TZID:Europe/Athens
BEGIN:DAYLIGHT
TZOFFSETFROM:+0200
TZOFFSETTO:+0300
TZNAME:EEST
DTSTART:20160327T010000
END:DAYLIGHT
BEGIN:STANDARD
TZOFFSETFROM:+0300
TZOFFSETTO:+0200
TZNAME:EET
DTSTART:20161030T010000
END:STANDARD
END:VTIMEZONE
BEGIN:VEVENT
DTSTART;TZID=Europe/Athens:20161016T160000
DTEND;TZID=Europe/Athens:20161016T210000
DTSTAMP:20260420T160505
CREATED:20161011T023732Z
LAST-MODIFIED:20161012T214901Z
UID:5224-1476633600-1476651600@www.stegi-chorus.gr
SUMMARY:ΣΕΜΙΝΑΡΙΟ Διεύθυνσης Χορωδίας & Μουσικοπαιδαγωγικού Συστήματος Kodály
DESCRIPTION:ΔΩΡΕΑΝ ΣΕΜΙΝΑΡΙΟ Διεύθυνσης Χορωδίας\n& Μουσικοπαιδαγωγικού Συστήματος Kodály\n.\nΗ Σχολή Διεύθυνσης Χορωδίας του Ωδείου Κόνταλυ\nκαι το Ελληνικό Ινστιτούτο Kodály\, διοργανώνει \nΕισαγωγικό Σεμινάριο Διεύθυνσης Χορωδίας\n& Μουσικοπαιδαγωγικού Συστήματος Kodály\nτην Κυριακή 16 Οκτωβρίου 2016\, 3 – 8 μ.μ.\n.\nστην Αίθουσα Ελληνογερμανικού Συλλόγου «Φιλαδέλφεια»\n (Κριεζή 64 και Μονεμβασιάς\, Πολύδροσο Αμαρουσίου\, 15125)\n [ΧΑΡΤΗΣ  http://goo.gl/maps/Oyh5v]\n.\nΔιδάσκει ο μαέστρος Μιχάλης Πατσέας\,\nτ. Πρόεδρος της Διεθνούς Εταιρείας Kodály\,\nμέλος του Δ.Σ. της Στέγης Ελληνικών Χορωδιών\,\nκαθηγητής Διεύθυνσης Χορωδίας επί 27 χρόνια\,\nπρόεδρος και μέλος Επιτροπών Διεθνών Χορωδιακών Διαγωνισμών.\n.\nΗ συμμετοχή είναι ΔΩΡΕΑΝ \nσε όσους εγγραφούν μέχρι και την 15η Οκτωβρίου\,\n– στέλνοντας e-mail στο info@kodaly.gr\n– ή στέλνοντας SMS στο 6942488794\nκαι αναφέροντας:\n“Επιθυμώ να συμμετάσχω Δωρεάν στο Σεμινάριο της 16/10/2016.\nΕπώνυμο – Όνομα – κινητό – email – επάγγελμα – μουσικές γνώσεις“\n.\nΣε κάθε άλλη περίπτωση η συμμετοχή είναι 20 €.\nΣτούς συμμετέχοντες θα δοθούν βεβαιώσεις.\n.\nΌσοι ενδιαφέρονται για τις τακτικές σπουδές στην\nΔιεύθυνση Χορωδίας (για δίπλωμα αναγνωρισμένο από το κράτος)\nή / και στα Παιδαγωγικά Μουσικής (Σύστημα Kodály)\nκαλούνται να παρευρεθούν σε αυτό το εισαγωγικό Σεμινάριο.
URL:https://www.stegi-chorus.gr/event/%ce%b4%cf%89%cf%81%ce%b5%ce%b1%ce%bd-%cf%83%ce%b5%ce%bc%ce%b9%ce%bd%ce%b1%cf%81%ce%b9%ce%bf-%ce%b4%ce%b9%ce%b5%cf%8d%ce%b8%cf%85%ce%bd%cf%83%ce%b7%cf%82-%cf%87%ce%bf%cf%81%cf%89%ce%b4%ce%af%ce%b1/
LOCATION:Αίθουσα Ελληνογερμανικού Συλλόγου «Φιλαδέλφεια»\, Κριεζή 64 και Μονεμβασιάς\, Πολύδροσο Αμαρουσίου\, 15125\, Ελλάδα
CATEGORIES:Εκδηλώσεις Μελών,Προτάσεις
ATTACH;FMTTYPE=image/png:https://www.stegi-chorus.gr/wp-content/uploads/2016/10/2016-1016_Seminar-Kodaly_foto.png
ORGANIZER;CN="%CE%A9%CE%B4%CE%B5%CE%AF%CE%BF KODALY - %CE%A7%CE%BF%CF%81%CF%89%CE%B4%CE%AF%CE%B5%CF%82 %CE%A9%CE%B4%CE%B5%CE%AF%CE%BF%CF%85 %CE%9A%CE%9FDALY":MAILTO:info@kodaly.gr
END:VEVENT
END:VCALENDAR