BEGIN:VCALENDAR
VERSION:2.0
PRODID:-//Στέγη Ελληνικών Χορωδιών - ECPv6.6.4.2//NONSGML v1.0//EN
CALSCALE:GREGORIAN
METHOD:PUBLISH
X-WR-CALNAME:Στέγη Ελληνικών Χορωδιών
X-ORIGINAL-URL:https://www.stegi-chorus.gr
X-WR-CALDESC:Events for Στέγη Ελληνικών Χορωδιών
REFRESH-INTERVAL;VALUE=DURATION:PT1H
X-Robots-Tag:noindex
X-PUBLISHED-TTL:PT1H
BEGIN:VTIMEZONE
TZID:Europe/Athens
BEGIN:DAYLIGHT
TZOFFSETFROM:+0200
TZOFFSETTO:+0300
TZNAME:EEST
DTSTART:20170326T010000
END:DAYLIGHT
BEGIN:STANDARD
TZOFFSETFROM:+0300
TZOFFSETTO:+0200
TZNAME:EET
DTSTART:20171029T010000
END:STANDARD
END:VTIMEZONE
BEGIN:VEVENT
DTSTART;TZID=Europe/Athens:20170307T213000
DTEND;TZID=Europe/Athens:20170307T000000
DTSTAMP:20260420T094310
CREATED:20170302T115316Z
LAST-MODIFIED:20170302T115316Z
UID:5470-1488922200-1488844800@www.stegi-chorus.gr
SUMMARY:Ηλίας Ανδριόπουλος «Ο Φιλόπατρις»
DESCRIPTION:Την Τρίτη\, 7 Μαρτίου 2017 στις 9:30 μ.μ. στον ΙΑΝΟ\, Σταδίου 24 θα γίνει η παρουσίαση του νέου cd του Ηλία Ανδριόπουλου “Ο Φιλόπατρις”\, όπου η Χορωδία “Σύγχρονη Έκφραση”\, ερμηνεύει 11 παλαιά και νέα τραγούδια του Ηλία Ανδριόπουλου. Σε δύο από αυτά συμμετέχει ο Μανώλης Μητσιάς και σε άλλα τρία ο διεθνούς φήμης βαρύτονος Τάσης Χριστογιαννόπουλος. Για το cd αυτό θα μιλήσουν ο Μίλτος Λογιάδης\, ο Νότης Μαυρουδής\, ο Γιώργος Μονεμβασίτης και ο Ηλίας Λογοθέτης. Ο Τάσης Χριστογιαννόπουλος δυστυχώς δεν θα παρευρεθεί για να τραγουδήσει ζωντανά μπροστά σας. Θα ακουστεί όμως χαρακτηριστικό κομμάτι όπου κρατάει με τη φωνή του τη σολιστική γραμμή και τον συνοδεύει η Χορωδία “Σύγχρονη Έκφραση”\, η οποία θα εκτελέσει ζωντανά χαρακτηριστικά κομμάτια που περιλαμβάνονται στο cd. Η εκδήλωση θα κλείσε με ζωντανή εκτέλεση δύο τραγουδιών με τη συμμετοχή του Μανώλη Μητσιά και τη Χορωδία μας.\nΤη Χορωδία “Σύγχρονη Έκφραση” διευθύνει ο Θωμάς Λουζιώτης\, που έχει κάνει όλες τις εναρμονίσεις και ενορχηστρώσεις των τραγουδιών.\nΗ είσοδος είναι ελεύθερη για το κοινό.
URL:https://www.stegi-chorus.gr/event/%ce%b7%ce%bb%ce%af%ce%b1%cf%82-%ce%b1%ce%bd%ce%b4%cf%81%ce%b9%cf%8c%cf%80%ce%bf%cf%85%ce%bb%ce%bf%cf%82-%ce%bf-%cf%86%ce%b9%ce%bb%cf%8c%cf%80%ce%b1%cf%84%cf%81%ce%b9%cf%82/
CATEGORIES:Εκδηλώσεις Μελών
ATTACH;FMTTYPE=image/jpeg:https://www.stegi-chorus.gr/wp-content/uploads/2017/03/filopatris.jpg
END:VEVENT
BEGIN:VEVENT
DTSTART;TZID=Europe/Athens:20170318T193000
DTEND;TZID=Europe/Athens:20170318T193000
DTSTAMP:20260420T094310
CREATED:20170311T222924Z
LAST-MODIFIED:20170314T081708Z
UID:5518-1489865400-1489865400@www.stegi-chorus.gr
SUMMARY:Cantelena's Festival #1 The Sound of Choirs
DESCRIPTION:H «Cantelena Χορωδία Πάτρας»  διοργανώνει με την υποστήριξη του Πανεπιστημίου Πατρών \nτο 1ο Cantelena’s Festival The Sound of Choirs \nτο Σάββατο 18 Μαρτίου 2017 στο Συνεδριακό Κέντρο του Πανεπιστημίου Πατρών\, \nώρα 19:30. \nΠροσκεκλημένες είναι δυο φημισμένες και πολυβραβευμένες χορωδίες: η Παιδική Χορωδία του Μεγάρου Μουσικής «Rosarte» και η Παιδική Χορωδία «Αρμονία» Πρέβεζας που μαζί με την Cantelena θα ερμηνεύσουν μελωδίες από το σύγχρονο χορωδιακό ρεπερτόριο. \n  \nΗ «Rosarte» έχει 15 χρόνια πορείας υπό τη διεύθυνση της Ρόζης Μαστροσάββα. Αποτελείται από 230 επίλεκτα παιδιά ηλικίας 6 έως 19 ετών και σε κάθε της εμφάνιση αποσπά διθυραμβικές κριτικές από ανθρώπους του Πνεύματος και της Τέχνης\, τόσο στην Ελλάδα όσο και στο εξωτερικό. Έχει χαράξει μία σπουδαία πορεία στο καλλιτεχνικό στερέωμα έχοντας κερδίσει πολλές σημαντικές διεθνείς διακρίσεις ενώ συνεργάζεται σε συναυλίες με όλες τις συμφωνικές ορχήστρες και τις επαγγελματικές χορωδίες της χώρας μας. \n  \nΗ Παιδική Χορωδία «Αρμονία» Πρέβεζας ιδρύθηκε το 1983 στην Πρέβεζα έχοντας αποσπάσει σειρά βραβείων στην Ελλάδα και στο εξωτερικό σε διεθνείς χορωδιακούς διαγωνισμούς. Έχει αναδειχθεί δυο φορές ως η «Καλύτερη Ελληνική Παιδική Χορωδία» στο Διεθνές Χορωδιακό Φεστιβάλ Αθηνών και έχει συνεργαστεί με αναγνωρισμένα μουσικά σύνολα. Την Χορωδία διευθύνει η Ανέλια Στεφάνοβα \n  \nΗ «Cantelena Χορωδία Πάτρας» υπό τη διεύθυνση της Ελένης Παπαδοπούλου – Αραβαντινού\, ξεκίνησε την διαδρομή της στα πολιτιστικά δρώμενα της Πάτρας τον Σεπτέμβριο του 2016. Στην χορωδία λειτουργούν τέσσερα τμήματα (Χορωδία Νέων\, Παιδική Χορωδία καθώς και δύο προπαρασκευαστικά τμήματα Junior και Pre-Junior) \nΣτόχος της Cantelena είναι η ενίσχυση της Χορωδιακής Εκπαίδευσης στη χώρα μας με σύγχρονο\, καινοτόμο τρόπο καθώς και η διάδοση της χορωδιακής μουσικής με την πραγματοποίηση συναυλιών σε συνεργασία με πολιτιστικούς φορείς στην Ελλάδα και στο εξωτερικό (σε εκδηλώσεις όπως κοντσέρτα\, όπερα\, χορωδιακά φεστιβάλ). \nΠροσδοκία όλων μας είναι ότι η πολιτιστική αυτή δράση θα συμβάλλει στην   καλλιέργεια της χορωδιακής τέχνης και θα βρει θερμή ανταπόκριση τόσο από την Μουσική Κοινότητα\, όσο και από την τοπική κοινωνία. \n  \nΤιμές εισιτηρίων: \n5 ευρώ (για φοιτητές\, παιδιά) \n10 ευρώ (γενική είσοδος) \nΔιάθεση εισιτηρίων: \nCantelena Χορωδία Πάτρας (Μαιζώνος 159\, ώρες: 11:00-13:30 & 18:00-21:00) \nDiscover YOUR WAY (Πατρέως 30\, τηλ.: 2610624916) \n  \nΧορηγοί εκδήλωσης: ΓΕΦΥΡΑ Α.Ε.\, PORTO RIO HOTEL\, MITRELIS-Διεθνείς Μεταφορές\, bath+tiles-ARAVANTINOS\, AMPATANGELOU-English courses\, INTERAMERICAN\, talks-catering\, MARK AaLEN\, WINE CENTER A.E.\, \nΒ.ΒΛΑΣΤΑΡΑΣ- τεχνική εταιρεία\, ΚΑΤΣΑΡΟΣ ΜΕΓΑΚΛΗΣ- εμπορία γεωργικών εφοδίων ΚΑΤΩ ΑΧΑΪΑ. \nΧορηγοί επικοινωνίας: dete.gr\, thebest.gr\, Patrastv\, Patras  Events \n  \nΠληροφορίες: Cantelena Χορωδία Πάτρας\, \nΤηλ.: 2610 273668\, choir@cantelena.gr   Ελένη Παπαδοπούλου – Αραβαντινού
URL:https://www.stegi-chorus.gr/event/cantelenas-festival-1-the-sound-of-choirs/
LOCATION:Συνεδριακό και Πολιτιστικό Κέντρο Πανεπιστημίου Πατρών\, Λ. Ιπποκράτους\, Πανεπιστημιούπολη Ρίου\, Πάτρα\, Ρίο\, 26504\, Ελλάδα
CATEGORIES:Εκδηλώσεις Μελών
ATTACH;FMTTYPE=image/jpeg:https://www.stegi-chorus.gr/wp-content/uploads/2017/03/cantelena-upatras.jpg
END:VEVENT
BEGIN:VEVENT
DTSTART;TZID=Europe/Athens:20170322T193000
DTEND;TZID=Europe/Athens:20170322T193000
DTSTAMP:20260420T094310
CREATED:20170316T113708Z
LAST-MODIFIED:20170316T113708Z
UID:5545-1490211000-1490211000@www.stegi-chorus.gr
SUMMARY:ΙμChor
DESCRIPTION:στο Μουσείο Μπενάκη
URL:https://www.stegi-chorus.gr/event/%ce%b9%ce%bcchor/
CATEGORIES:Εκδηλώσεις Μελών
ATTACH;FMTTYPE=image/jpeg:https://www.stegi-chorus.gr/wp-content/uploads/2017/03/ote-imchor.jpg
END:VEVENT
BEGIN:VEVENT
DTSTART;TZID=Europe/Athens:20170322T200000
DTEND;TZID=Europe/Athens:20170322T220000
DTSTAMP:20260420T094310
CREATED:20170315T232621Z
LAST-MODIFIED:20170315T232621Z
UID:5533-1490212800-1490220000@www.stegi-chorus.gr
SUMMARY:Όταν ο Παπαϊωάννου εμπνεύστηκε από τον Μυριβήλη. ΦΙΛΑΡΜΟΝIA ΟΡΧΗΣΤΡΑ ΑΘΗΝΩΝ
DESCRIPTION:Με μια συναυλία αφιερωμένη σε συνθέτες και έργα της Ελληνικής Εθνικής Σχολής συνεχίζεται η πορεία της Φιλαρμόνιας Ορχήστρας Αθηνών. Η συναυλία εγκαινιάζει τις 13ες Ελληνικές Μουσικές Γιορτές\, ένα θεσμό που ξεκίνησε πριν από 13 χρόνια με πρωτοβουλία του Μαέστρου και Καλλιτεχνικού ∆ιευθυντή της Φιλαρμόνιας\, Βύρωνα Φιδετζή\, και παρουσιάζει κάθε χρόνο την άνοιξη μια μεγάλη σειρά συναυλιών αποκλειστικά με έργα Ελλήνων συνθετών\, πολλά εκ των οποίων σε πρώτες παγκόσμιες εκτελέσεις. \nΗ νέα συναυλία της Φιλαρμόνιας θα παρουσιάσει έργα χαρακτηριστικά δύο περιόδων της Ελληνικής Εθνικής Σχολής\, με ξεχωριστό ελληνικό χρώμα\, που χρησιμοποιούν τους μελωδικούς τρόπους\, τους ρυθμούς και την ατμόσφαιρα του λαϊκού μας πολιτισμού. \nΣολίστ:\nΧάρης Χατζηγεωργίου\, βιολί –  Τζούλια Σουγλάκου\, υψίφωνος\nΜικτή Χορωδία Εθνικού Ωδείου (διεύθυνση Σπύρος Κλάψης) – Χορωδία “Ambitus” Λεοντείου Λυκείου Νέας Σμύρνης (διεύθυνση Κατερίνα Βασιλικού)\nΜουσική διεύθυνση: Βύρων Φιδετζής \nαφίσα εκδήλωσης
URL:https://www.stegi-chorus.gr/event/%cf%8c%cf%84%ce%b1%ce%bd-%ce%bf-%cf%80%ce%b1%cf%80%ce%b1%cf%8a%cf%89%ce%ac%ce%bd%ce%bd%ce%bf%cf%85-%ce%b5%ce%bc%cf%80%ce%bd%ce%b5%cf%8d%cf%83%cf%84%ce%b7%ce%ba%ce%b5-%ce%b1%cf%80%cf%8c-%cf%84%ce%bf/
LOCATION:Χώρος Τέχνης και Πολιτισμού «Άρτεμις»\, Πυθαγόρα 8\, Άλιμος\, Αθήνα\, Ελλάδα
CATEGORIES:Εκδηλώσεις Μελών
END:VEVENT
BEGIN:VEVENT
DTSTART;TZID=Europe/Athens:20170326T210000
DTEND;TZID=Europe/Athens:20170326T210000
DTSTAMP:20260420T094310
CREATED:20170323T175951Z
LAST-MODIFIED:20170323T175951Z
UID:5562-1490562000-1490562000@www.stegi-chorus.gr
SUMMARY:Τραγουδάμε Μάνο Χατζιδάκι
DESCRIPTION:Κερκυραϊκή Καντάδα & Μαντολινάτα \n26/3\, Κέρκυρα
URL:https://www.stegi-chorus.gr/event/%cf%84%cf%81%ce%b1%ce%b3%ce%bf%cf%85%ce%b4%ce%ac%ce%bc%ce%b5-%ce%bc%ce%ac%ce%bd%ce%bf-%cf%87%ce%b1%cf%84%ce%b6%ce%b9%ce%b4%ce%ac%ce%ba%ce%b9/
CATEGORIES:Εκδηλώσεις Μελών
ATTACH;FMTTYPE=image/jpeg:https://www.stegi-chorus.gr/wp-content/uploads/2017/03/mx-km2017.jpg
END:VEVENT
END:VCALENDAR