BEGIN:VCALENDAR
VERSION:2.0
PRODID:-//Στέγη Ελληνικών Χορωδιών - ECPv6.6.4.2//NONSGML v1.0//EN
CALSCALE:GREGORIAN
METHOD:PUBLISH
X-WR-CALNAME:Στέγη Ελληνικών Χορωδιών
X-ORIGINAL-URL:https://www.stegi-chorus.gr
X-WR-CALDESC:Events for Στέγη Ελληνικών Χορωδιών
REFRESH-INTERVAL;VALUE=DURATION:PT1H
X-Robots-Tag:noindex
X-PUBLISHED-TTL:PT1H
BEGIN:VTIMEZONE
TZID:Europe/Athens
BEGIN:DAYLIGHT
TZOFFSETFROM:+0200
TZOFFSETTO:+0300
TZNAME:EEST
DTSTART:20170326T010000
END:DAYLIGHT
BEGIN:STANDARD
TZOFFSETFROM:+0300
TZOFFSETTO:+0200
TZNAME:EET
DTSTART:20171029T010000
END:STANDARD
END:VTIMEZONE
BEGIN:VEVENT
DTSTART;VALUE=DATE:20170407
DTEND;VALUE=DATE:20170409
DTSTAMP:20260420T082150
CREATED:20170314T125614Z
LAST-MODIFIED:20170314T125929Z
UID:5526-1491530400-1491616799@www.stegi-chorus.gr
SUMMARY:Ελεύθεροι Πολιορκημένοι
DESCRIPTION:Μετά την πρόσφατη συνεργασία με τον κορυφαίο πιανίστα Στέφανο Κορκολή\, νέα συνεργασία ετοιμάζει η ΠΟΛΥΦΩΝΙΚΗ\, αυτή τη φορά με το διάσημο Έλληνα συνθέτη ΓΙΑΝΝΗ ΜΑΡΚΟΠΟΥΛΟ. \nΟ εκ των κορυφαίων συνθετών της νεοελληνικής μουσικής\, προσκάλεσε την 70μελή ΜΙΚΤΗ ΧΟΡΩΔΙΑ του Οργανισμού [Διεύθυνση: Μο Σταύρος Σολωμός\, πιάνο: Λούση Χριστοδούλου]\, προκειμένου να ερμηνεύσει υπό τη διεύθυνση του\, το αριστουργηματικό του έργο: ‘’Ελεύθεροι Πολιορκημένοι’’ του εθνικού μας ποιητή\, Διονυσίου Σολωμού\, γεγονός που αποτελεί ιδιαίτερη τιμή για τον Οργανισμό της ΠΟΛΥΦΩΝΙΚΗΣ αλλά και της ίδιας της Πάτρας. \nΗ ερμηνεία του συγκλονιστικού στίχου του Σολωμού\, σε συνδυασμό με την εμπνευσμένη μουσική του Μαρκόπουλου\, θα πραγματοποιηθεί στην Ιερά Πόλη του Μεσολογγίου\, την Παρασκευή 7 Απριλίου\, στο φυσικό χώρο της αναφορά του έργου\, μπροστά από τα τείχη της μαρτυρικής πόλεως\, στο πλαίσιο των Εορτών\, που πραγματοποιούνται κάθε χρόνο\, σε μνήμη και τιμή της Ηρωικής Εξόδου της Φρουράς των ‘’Ελεύθερων Πολιορκημένων’’. \nΣτην ερμηνεία του έργου θα μετάσχουν η Ορχήστρα του συνθέτη ‘’Παλίντονος Αρμονία’’\, οι καταξιωμένοι σολίστ Λάκης Χαλκιάς\, Κώστας Μακεδόνας και Γιώργος Ζερβάκης και η Χορωδία Μεσολογγίου.
URL:https://www.stegi-chorus.gr/event/%ce%b5%ce%bb%ce%b5%cf%8d%ce%b8%ce%b5%cf%81%ce%bf%ce%b9-%cf%80%ce%bf%ce%bb%ce%b9%ce%bf%cf%81%ce%ba%ce%b7%ce%bc%ce%ad%ce%bd%ce%bf%ce%b9/
CATEGORIES:Εκδηλώσεις Μελών
ATTACH;FMTTYPE=image/jpeg:https://www.stegi-chorus.gr/wp-content/uploads/2017/03/ΓΙΑΝΝΗΣ-ΜΑΡΚΟΠΟΥΛΟΣ-1.jpg
END:VEVENT
BEGIN:VEVENT
DTSTART;TZID=Europe/Athens:20170408T213000
DTEND;TZID=Europe/Athens:20170408T213000
DTSTAMP:20260420T082150
CREATED:20170405T080502Z
LAST-MODIFIED:20170405T080502Z
UID:5593-1491687000-1491687000@www.stegi-chorus.gr
SUMMARY:Τραγουδώντας για το Μουσείο (Σπάρτη)
DESCRIPTION:Το Μουσείο Ελιάς και Ελληνικού Λαδιού \nγιορτάζει τα δέκατα τέταρτα γενέθλιά του \n με το Μουσικό Όμιλο Σπάρτης \n  \nTο Πολιτιστικό Ίδρυμα Ομίλου Πειραιώς (ΠΙΟΠ)\, γιορτάζει τα δέκατα τέταρτα γενέθλια του Μουσείου Ελιάς και Ελληνικού Λαδιού\, στη Σπάρτη\, με μια σειρά επετειακών εκδηλώσεων για μικρούς και μεγάλους. Στο ξεκίνημά τους\, το Σάββατο 8 Απριλίου στις 8.30 μ.μ. σας καλεί στην εκδήλωση «Τραγουδώντας για το Μουσείο»\, παρουσιάζοντας τον Μουσικό Όμιλο Σπάρτης. \nΗ τετράφωνη μικτή χορωδία του Μ.Ο.Σ.\, με τη συνοδεία της Μαρίας Βελμάχου στο πιάνο\, και υπό τη διεύθυνση του μαέστρου\, συνθέτη και καθηγητή ανωτέρων θεωρητικών μουσικής Νίκου Καριώτη\, θα πλημμυρίσει τους χώρους του Μουσείου με εκκλησιαστικές\, παραδοσιακές και σύγχρονες μελωδίες\, ερμηνεύοντας ένα μουσικό πρόγραμμα εναρμονισμένο και με την κατανυκτική ατμόσφαιρα της Μεγάλης Εβδομάδας που ακολουθεί. \n  \nΗ συμμετοχή στην εκδήλωση είναι δωρεάν. \n  \nΜουσείο Ελιάς και Ελληνικού Λαδιού \nΌθωνος-Αμαλίας 129\, Σπάρτη 231 00 \nΤ: 27310 89315 | www.piop.gr
URL:https://www.stegi-chorus.gr/event/%cf%84%cf%81%ce%b1%ce%b3%ce%bf%cf%85%ce%b4%cf%8e%ce%bd%cf%84%ce%b1%cf%82-%ce%b3%ce%b9%ce%b1-%cf%84%ce%bf-%ce%bc%ce%bf%cf%85%cf%83%ce%b5%ce%af%ce%bf-%cf%83%cf%80%ce%ac%cf%81%cf%84%ce%b7/
CATEGORIES:Εκδηλώσεις Μελών
ATTACH;FMTTYPE=image/jpeg:https://www.stegi-chorus.gr/wp-content/uploads/2017/04/cover_Sparti001.jpg
END:VEVENT
BEGIN:VEVENT
DTSTART;TZID=Europe/Athens:20170409T210000
DTEND;TZID=Europe/Athens:20170409T210000
DTSTAMP:20260420T082150
CREATED:20170406T162954Z
LAST-MODIFIED:20170406T163053Z
UID:5612-1491771600-1491771600@www.stegi-chorus.gr
SUMMARY:Ελληνικές Μουσικές Γιορτές 2017
DESCRIPTION:Κυριακή των Βαΐων 9 Απριλίου\, 8.00 μ.μ.\nστην Αίθουσα Τέχνης και Πολιτισμού «Άρτεμις»\, Πυθαγόρα 8\, Άλιμος \nΠαγκόσμια Πρώτη Εκτέλεση του έργου  Missa pro Defunctis (Requiem 1889 )\nτου λίγο γνωστού Έλληνα Ρομαντικού συνθέτη Δημήτρη Λιάλιου (1869-1940).
URL:https://www.stegi-chorus.gr/event/%ce%b5%ce%bb%ce%bb%ce%b7%ce%bd%ce%b9%ce%ba%ce%ad%cf%82-%ce%bc%ce%bf%cf%85%cf%83%ce%b9%ce%ba%ce%ad%cf%82-%ce%b3%ce%b9%ce%bf%cf%81%cf%84%ce%ad%cf%82-2017/
CATEGORIES:Εκδηλώσεις Μελών
END:VEVENT
BEGIN:VEVENT
DTSTART;VALUE=DATE:20170422
DTEND;VALUE=DATE:20170425
DTSTAMP:20260420T082150
CREATED:20170410T080044Z
LAST-MODIFIED:20170420T075120Z
UID:5639-1492826400-1492999199@www.stegi-chorus.gr
SUMMARY:7ο Παγκόσμιο Φεστιβάλ Χορωδιών Μιούζικαλ
DESCRIPTION:Η Χορωδία “ΚΟΡΑΗΣ” σας προσκαλεί να συμμετέχετε σε ένα Φεστιβάλ Χαράς που θα πραγματοποιηθεί από 21 έως 23 Απριλίου 2017\, στην πόλη της Θεσσαλονίκης.\nΗ πόλη της Βόρειας Ελλάδας με το γλυκό μεσογειακό κλίμα\, την εγκαρδιότητα των κατοίκων της και την μακραίωνη ιστορία που αποτυπώνεται στα πλούσια αρχαία μνημεία της\, σας υπόσχεται μια αξέχαστη διαμονή γεμάτη πρωτόγνωρες εμπειρίες. Επιπλέον η αγάπη για το Μιούζικαλ που επιδεικνύουν οι χιλιάδες των θεατών που παρακολουθούν κάθε χρόνο το Φεστιβάλ και η θερμή ατμόσφαιρα ενθουσιασμού και χαράς που δημιουργούν\, κάνουν το Παγκόσμιο Φεστιβάλ Χορωδιών Μιούζικαλ μοναδικό γεγονός σε όλο τον κόσμο\, χαρίζοντας σε όλους τους συμμετέχοντες ξεχωριστές και αξέχαστες συγκινήσεις.\nΤο Παγκόσμιο Φεστιβάλ Χορωδιών Μιούζικαλ είναι αφιερωμένο στην Ειρήνη\, τη Φιλία\, τη Συνεργασία\, τη Συναδέλφωση και την Αλληλεγγύη ανάμεσα στους λαούς. \n7th World Choir Festival on Musicals\, 22 – 23 of April\, 2017\nFestival Program \n22th April\, Saturday\n11.30. Odeion at the Roman Agora. Official Festival Opening Ceremony. Concert with the participation of all the participant choirs. Each choir will perform two songs.\n20.00. Ceremony Hall of the Aristotle University of Thessaloniki. .\nWelcome speech from the Organisational and the Artistic Committee\n– Short tribute in memorial of the Red Army’s choir.\n– Two Russian songs from the New European Women’s choir “Agapi” from Perea.\n– Distinguised city dancers\, taught by Sotiris Karamitsios will present Zorba”\nMusicals Program\n– “Filippos Glee” Choir of Veria\, GREECE\n– “Atatürk Youth Choir”\, Antalya. TURKEY\n– “New European Women’s Choir “Agapi” Perea\, GREECE\n– “Chamber Choir “Melodium”\, Bitola\, FORMER ΥUGOSLAV REPUBLIC OF\nMACEDONIA\n23th April May\, Sunday Program of the Choirs’ own choice\n11.00 . Ceremony Hall of the Aristotle University of Thessaloniki.\n– “Agios Athanasios Choir” Limassol\, CYPRUS\n– Vocal Ensemble of the Serbo-Greek Friendship Association “Irida”\, SERBIA\n– “Ariones Choir” of Limassol\, CYPRUS\n– “Μousiki Gonia” Choir of the Moschatos-Tavros Municipality\, GREECE\n– “Prima” Choir\, Pomorie. BULGARIA\n20.00. Ceremony Hall of the Aristotle University of Thessaloniki\n– Ensemble “Sacralissimo”. ΒULGARIA\nMusicals Program\n– Choreographies from the “Diagonal” Dance School\n– Women Choral Ensemble “Thamyris Group”\, Thessaloniki\, GREECE\n– Mixte Choir of Morgins\, SWITZERLAND\n– “Korais” Choir\, Thessaloniki\, GREECE
URL:https://www.stegi-chorus.gr/event/7%ce%bf-%cf%80%ce%b1%ce%b3%ce%ba%cf%8c%cf%83%ce%bc%ce%b9%ce%bf-%cf%86%ce%b5%cf%83%cf%84%ce%b9%ce%b2%ce%ac%ce%bb-%cf%87%ce%bf%cf%81%cf%89%ce%b4%ce%b9%cf%8e%ce%bd-%ce%bc%ce%b9%ce%bf%cf%8d%ce%b6%ce%b9/
CATEGORIES:Εκδηλώσεις Μελών
ATTACH;FMTTYPE=image/jpeg:https://www.stegi-chorus.gr/wp-content/uploads/2017/04/7-miouzikal.jpg
END:VEVENT
BEGIN:VEVENT
DTSTART;VALUE=DATE:20170429
DTEND;VALUE=DATE:20170502
DTSTAMP:20260420T082150
CREATED:20170426T162329Z
LAST-MODIFIED:20170426T162329Z
UID:5675-1493431200-1493603999@www.stegi-chorus.gr
SUMMARY:ΣΥΝΑΝΤΗΣΗ ΧΟΡΩΔΙΩΝ ΑΡΓΟΛΙΔΟΣ
DESCRIPTION:Υπό την αιγίδα του Δήμου Ναυπλιέων και του ΔΟΠΠΑΤ\,  το Χορωδιακό Εργαστήρι Ναυπλίου διοργανώνει το Σάββατο 29 και την Κυριακή 30 Απριλίου\, Συνάντηση Χορωδιών Αργολίδος.\n\nΣΥΝΑΝΤΗΣΗ ΧΟΡΩΔΙΩΝ ΑΡΓΟΛΙΔΟΣ\n29/30-4-2017\nΣτην αίθουσα του Βουλευτικού Ναυπλίου\nΣάββατο 29-4-2017\n19:30 μ.μ\n1/ Χορωδία Πολιτιστικής Αργολικής Πρότασης\n2/Γυναικεία Χορωδία <<Φάρος>> Πολιτιστικού Συλλόγου Πορτοχελίου\n3/ Χορωδία Πολιτιστικού Συλλόγου Άργους <<Τελέσιλλα>>\n4/ Χορωδία Μουσικού Συλλόγου Ερμιόνης\n5/ <<Χορωδιακό Εργαστήρι Ναυπλίου>> \nΚυριακή 30-4-2017\n11:00 πμ\n1/Παιδική Χορωδία Δήμου Ναυπλιέων –ΔΟΠΠΑΤ\n2/Χορωδία Αγίου Νικολάου Ναυπλίου\nΚαι Επιμορφωτικού Συλλόγου Αγίας Τριάδας Μιδέας\n3/Παραδοσιακή Χορωδία Λυκείου Ελληνίδων Άργους\n4/ Χορωδία Κ.Α.Π.Η Ναυπλίου
URL:https://www.stegi-chorus.gr/event/%cf%83%cf%85%ce%bd%ce%b1%ce%bd%cf%84%ce%b7%cf%83%ce%b7-%cf%87%ce%bf%cf%81%cf%89%ce%b4%ce%b9%cf%89%ce%bd-%ce%b1%cf%81%ce%b3%ce%bf%ce%bb%ce%b9%ce%b4%ce%bf%cf%83/
CATEGORIES:Εκδηλώσεις Μελών
ATTACH;FMTTYPE=image/jpeg:https://www.stegi-chorus.gr/wp-content/uploads/2017/04/argolida2017.jpg
END:VEVENT
BEGIN:VEVENT
DTSTART;TZID=Europe/Athens:20170429T203000
DTEND;TZID=Europe/Athens:20170429T203000
DTSTAMP:20260420T082150
CREATED:20170410T074856Z
LAST-MODIFIED:20170410T074856Z
UID:5632-1493497800-1493497800@www.stegi-chorus.gr
SUMMARY:3ο Χορωδιακό Φεστιβάλ Πολυφωνία
DESCRIPTION:Λαμβάνουν μέρος:\n1. Χορωδία Σπάτων Αρτέμιδος\n2. Χορωδία καθηγητών Β’ ΕΛΜΕ Αθηνών\n3. Φωνητικό Σύνολο Califonia Dreaming\n4. Φωνητικό Σύνολο Μελωδοί\n5. Χορωδία Ambitus \nΚαλλιτεχνική επιμέλεια του Φεστιβάλ : Χρήστος Πάντας\nΥπό την αιγίδα της “ Ένωσης Πελοποννησίων Σπάτων-Αρτέμιδος”
URL:https://www.stegi-chorus.gr/event/3%ce%bf-%cf%87%ce%bf%cf%81%cf%89%ce%b4%ce%b9%ce%b1%ce%ba%cf%8c-%cf%86%ce%b5%cf%83%cf%84%ce%b9%ce%b2%ce%ac%ce%bb-%cf%80%ce%bf%ce%bb%cf%85%cf%86%cf%89%ce%bd%ce%af%ce%b1/
CATEGORIES:Εκδηλώσεις Μελών
ATTACH;FMTTYPE=image/jpeg:https://www.stegi-chorus.gr/wp-content/uploads/2017/04/polyfwnia2017.jpg
END:VEVENT
BEGIN:VEVENT
DTSTART;TZID=Europe/Athens:20170430T210000
DTEND;TZID=Europe/Athens:20170430T210000
DTSTAMP:20260420T082150
CREATED:20170420T102136Z
LAST-MODIFIED:20170420T102226Z
UID:5669-1493586000-1493586000@www.stegi-chorus.gr
SUMMARY:Ανοιξιάτικη Χορωδιακή Συνάντηση Δήμου Ελληνικού - Αργυρούπολης
DESCRIPTION:Ο Δήμαρχος Ελληνικού – Αργυρούπολης και η Πολιτιστική Επιτροπή σας προσκαλούν στην “Ανοιξιάτικη Χορωδιακή Συνάντηση”  στο Πολιτιστικό Συνεδριακό Κέντρο Μίκης Θεοδωράκης Κύπρου 68 Αργυρούπολη ν΄απολαύσετε μια βραδιά με χορωδιακά τραγούδια Ελλήνων και ξένων συνθετών. \nΠερισσότερες πληροφορίες στην αφίσα.
URL:https://www.stegi-chorus.gr/event/%ce%b1%ce%bd%ce%bf%ce%b9%ce%be%ce%b9%ce%ac%cf%84%ce%b9%ce%ba%ce%b7-%cf%87%ce%bf%cf%81%cf%89%ce%b4%ce%b9%ce%b1%ce%ba%ce%ae-%cf%83%cf%85%ce%bd%ce%ac%ce%bd%cf%84%ce%b7%cf%83%ce%b7-%ce%b4%ce%ae%ce%bc/
CATEGORIES:Εκδηλώσεις Μελών
ATTACH;FMTTYPE=image/jpeg:https://www.stegi-chorus.gr/wp-content/uploads/2017/04/anoixi-2017.jpg
END:VEVENT
END:VCALENDAR