BEGIN:VCALENDAR
VERSION:2.0
PRODID:-//Στέγη Ελληνικών Χορωδιών - ECPv6.6.4.2//NONSGML v1.0//EN
CALSCALE:GREGORIAN
METHOD:PUBLISH
X-ORIGINAL-URL:https://www.stegi-chorus.gr
X-WR-CALDESC:Events for Στέγη Ελληνικών Χορωδιών
REFRESH-INTERVAL;VALUE=DURATION:PT1H
X-Robots-Tag:noindex
X-PUBLISHED-TTL:PT1H
BEGIN:VTIMEZONE
TZID:Europe/Athens
BEGIN:DAYLIGHT
TZOFFSETFROM:+0200
TZOFFSETTO:+0300
TZNAME:EEST
DTSTART:20170326T010000
END:DAYLIGHT
BEGIN:STANDARD
TZOFFSETFROM:+0300
TZOFFSETTO:+0200
TZNAME:EET
DTSTART:20171029T010000
END:STANDARD
END:VTIMEZONE
BEGIN:VEVENT
DTSTART;VALUE=DATE:20170707
DTEND;VALUE=DATE:20170711
DTSTAMP:20260420T040249
CREATED:20161214T175441Z
LAST-MODIFIED:20170619T160631Z
UID:5334-1499392800-1499651999@www.stegi-chorus.gr
SUMMARY:2o  ΔΙΕΘΝΕΣ ΧΟΡΩΔΙΑΚΟ ΦΕΣΤΙΒΑΛ ΑΡΧΑΙΑΣ ΟΛΥΜΠΙΑΣ
DESCRIPTION:Λεπτομέρειες στην αφίσα.
URL:https://www.stegi-chorus.gr/event/2o-%ce%b4%ce%b9%ce%b5%ce%b8%ce%bd%ce%b5%cf%83-%cf%87%ce%bf%cf%81%cf%89%ce%b4%ce%b9%ce%b1%ce%ba%ce%bf-%cf%86%ce%b5%cf%83%cf%84%ce%b9%ce%b2%ce%b1%ce%bb-%ce%b1%cf%81%cf%87%ce%b1%ce%b9%ce%b1%cf%83-%ce%bf/
LOCATION:ΦΛΟΚΑ\, ΟΛΥΜΠΙΑ\, ΗΛΕΙΑΣ\, Ελλάδα
CATEGORIES:Εκδηλώσεις Μελών
ATTACH;FMTTYPE=image/jpeg:https://www.stegi-chorus.gr/wp-content/uploads/2017/06/ΜΕΛΩΝ-2.jpg
END:VEVENT
END:VCALENDAR