BEGIN:VCALENDAR
VERSION:2.0
PRODID:-//Στέγη Ελληνικών Χορωδιών - ECPv6.6.4.2//NONSGML v1.0//EN
CALSCALE:GREGORIAN
METHOD:PUBLISH
X-ORIGINAL-URL:https://www.stegi-chorus.gr
X-WR-CALDESC:Events for Στέγη Ελληνικών Χορωδιών
REFRESH-INTERVAL;VALUE=DURATION:PT1H
X-Robots-Tag:noindex
X-PUBLISHED-TTL:PT1H
BEGIN:VTIMEZONE
TZID:Europe/Athens
BEGIN:DAYLIGHT
TZOFFSETFROM:+0200
TZOFFSETTO:+0300
TZNAME:EEST
DTSTART:20170326T010000
END:DAYLIGHT
BEGIN:STANDARD
TZOFFSETFROM:+0300
TZOFFSETTO:+0200
TZNAME:EET
DTSTART:20171029T010000
END:STANDARD
END:VTIMEZONE
BEGIN:VEVENT
DTSTART;VALUE=DATE:20171021
DTEND;VALUE=DATE:20171024
DTSTAMP:20260420T001716
CREATED:20171022T125656Z
LAST-MODIFIED:20171022T125656Z
UID:6107-1508547600-1508720399@www.stegi-chorus.gr
SUMMARY:6ο Χορωδιακό Φεστιβάλ του Καλλιτεχνικού και Πολιτιστικού Σωματείου Κηφισιάς «Απόλλων Μουσηγέτης»
DESCRIPTION:Το Σάββατο 21 και την Κυριακή 22 Οκτωβρίου 2017 θα πραγματοποιηθεί 6ο Χορωδιακό Φεστιβάλ του Καλλιτεχνικού και Πολιτιστικού Σωματείου Κηφισιάς «Απόλλων Μουσηγέτης» στην Αίθουσα Δημαρχείου Κηφισιάς «Δήμαρχος Βασ Γκατσόπουλος» (Διονύσου και Μυρσίνης).\nΗ εκδήλωση τελεί υπό την αιγίδα του ΝΠΔΔ Πολιτισμού και Αθλητισμού του Δήμου Κηφισιάς. \nΕίσοδος ελεύθερη. \nΑρχική ανάρτηση. \nΤο γυναικείο σύνολο της χορωδίας Ambitus Λεοντείου Λυκείου Ν.Σμύρνης θα συμμετέχει την Κυριακή 22/10 με το παρακάτω πρόγραμμα: \n1. Sanctus (A.Caplet)\n2. Ave Maria (C.Gumi)\n3. Ave verum corpus (F.Poulenc)\n4. Ave Regina caelorum (R.Dubra)\n5. Τέσσερα Τραγούδια της Αγάπης: Βουνά μην πρασινίζετε / Δεντρί του\nΠαραδείσου (I.Χαλιάσας)\n6. Νανούρισμα (Σ.Λασκαρίδης – στ. Σάντη Κοντακτσή) \nΠιάνο: Μιχάλης Χανός\nΔιδασκαλία – Διεύθυνση: Κατερίνα Βασιλικού \n  \n \n 
URL:https://www.stegi-chorus.gr/event/6%ce%bf-%cf%87%ce%bf%cf%81%cf%89%ce%b4%ce%b9%ce%b1%ce%ba%cf%8c-%cf%86%ce%b5%cf%83%cf%84%ce%b9%ce%b2%ce%ac%ce%bb-%cf%84%ce%bf%cf%85-%ce%ba%ce%b1%ce%bb%ce%bb%ce%b9%cf%84%ce%b5%cf%87%ce%bd%ce%b9%ce%ba/
LOCATION:Πολιτιστικό Κέντρο Δήμου Κηφισιάς\, Αθήνα\, Ελλάδα
CATEGORIES:Εκδηλώσεις Μελών,Φεστιβάλ Εσωτερικού
END:VEVENT
END:VCALENDAR