BEGIN:VCALENDAR
VERSION:2.0
PRODID:-//Στέγη Ελληνικών Χορωδιών - ECPv6.6.4.2//NONSGML v1.0//EN
CALSCALE:GREGORIAN
METHOD:PUBLISH
X-WR-CALNAME:Στέγη Ελληνικών Χορωδιών
X-ORIGINAL-URL:https://www.stegi-chorus.gr
X-WR-CALDESC:Events for Στέγη Ελληνικών Χορωδιών
REFRESH-INTERVAL;VALUE=DURATION:PT1H
X-Robots-Tag:noindex
X-PUBLISHED-TTL:PT1H
BEGIN:VTIMEZONE
TZID:Europe/Athens
BEGIN:DAYLIGHT
TZOFFSETFROM:+0200
TZOFFSETTO:+0300
TZNAME:EEST
DTSTART:20180325T010000
END:DAYLIGHT
BEGIN:STANDARD
TZOFFSETFROM:+0300
TZOFFSETTO:+0200
TZNAME:EET
DTSTART:20181028T010000
END:STANDARD
END:VTIMEZONE
BEGIN:VEVENT
DTSTART;VALUE=DATE:20180317
DTEND;VALUE=DATE:20180320
DTSTAMP:20260419T173158
CREATED:20180312T060017Z
LAST-MODIFIED:20180312T060017Z
UID:6479-1521248400-1521421199@www.stegi-chorus.gr
SUMMARY:1ο Χορωδιακό Φεστιβάλ Δήμου Π. Φαλήρου
DESCRIPTION:1ο Χορωδιακό Φεστιβάλ που διοργανώνει ο Δήμος Π. Φαλήρου\, το Σάββατο 17 Μαρτίου 2018 & την Κυριακή 18 Μαρτίου 2018. \nΗ ώρα έναρξης του Φεστιβάλ το Σάββατο 17 Μαρτίου 2018\, όπου εμφανίζονται οι χορωδίες Ομοίων και Μεικτών Φωνών ενηλίκων\, θα γίνει στις 19:30. \nΤην Κυριακή 18 Μαρτίου 2018\, όπου εμφανίζονται οι Παιδικές – Νεανικές Χορωδίες\, η ώρα έναρξης του Φεστιβάλ θα είναι στις 18:00.
URL:https://www.stegi-chorus.gr/event/1%ce%bf-%cf%87%ce%bf%cf%81%cf%89%ce%b4%ce%b9%ce%b1%ce%ba%cf%8c-%cf%86%ce%b5%cf%83%cf%84%ce%b9%ce%b2%ce%ac%ce%bb-%ce%b4%ce%ae%ce%bc%ce%bf%cf%85-%cf%80-%cf%86%ce%b1%ce%bb%ce%ae%cf%81%ce%bf%cf%85/
CATEGORIES:Εκδηλώσεις Μελών
ATTACH;FMTTYPE=image/jpeg:https://www.stegi-chorus.gr/wp-content/uploads/2018/03/Αφίσα-1ο-Χορωδιακό-Φεστιβάλ-Δήμου-Π.-Φαλήρου.jpg
END:VEVENT
BEGIN:VEVENT
DTSTART;TZID=Europe/Athens:20180329T213000
DTEND;TZID=Europe/Athens:20180329T213000
DTSTAMP:20260419T173158
CREATED:20180308T160812Z
LAST-MODIFIED:20180308T160812Z
UID:6456-1522359000-1522359000@www.stegi-chorus.gr
SUMMARY:Έμμελα θεία Πάθη
DESCRIPTION:Το βυζαντινό μέλος στη Σταύρωση και στον Επιτάφιο Θρήνο\, η κατανυκτική εμπειρία της Βυζαντινής Μουσικής. \nΗ βυζαντινή μουσική απέκτησε μια μοναδική υπεραξία και την αυτονομία να λειτουργεί και εκτός του φυσικού της χώρου\, της Εκκλησίας. Σε συναυλίες\, σε πλατείες\, σε ηχογραφήσεις\, η εμπειρία της ακρόασής της παραμένει βαθιά κατανυκτική. Βαδίζοντας στον δρόμο της Ψαλτικής Παράδοσης της Πόλης όπως τη μεταλαμπάδευσε ο Πρωτοψάλτης του Οικουμενικού Πατριαρχείου Θρασύβουλος Στανίτσας\, το Εργαστήρι Ψαλτικής ερμηνεύει κορυφαίες συνθέσεις της Ακολουθίας των Παθών\, της Αποκαθήλωσης και του Επιταφίου. \n\nΕργαστήρι Ψαλτικής\nΧοράρχης Αθανάσιος Παϊβανάς
URL:https://www.stegi-chorus.gr/event/%ce%ad%ce%bc%ce%bc%ce%b5%ce%bb%ce%b1-%ce%b8%ce%b5%ce%af%ce%b1-%cf%80%ce%ac%ce%b8%ce%b7/
LOCATION:Μέγαρο Μουσικής Αθηνών\,  Λ. Βασιλίσσης Σοφίας & Κόκκαλη\, Αθήνα\, 11521\, Ελλάδα
CATEGORIES:Εκδηλώσεις Μελών
ATTACH;FMTTYPE=image/gif:https://www.stegi-chorus.gr/wp-content/uploads/2015/10/ergpsa-logo.gif
END:VEVENT
END:VCALENDAR