BEGIN:VCALENDAR
VERSION:2.0
PRODID:-//Στέγη Ελληνικών Χορωδιών - ECPv6.6.4.2//NONSGML v1.0//EN
CALSCALE:GREGORIAN
METHOD:PUBLISH
X-WR-CALNAME:Στέγη Ελληνικών Χορωδιών
X-ORIGINAL-URL:https://www.stegi-chorus.gr
X-WR-CALDESC:Events for Στέγη Ελληνικών Χορωδιών
REFRESH-INTERVAL;VALUE=DURATION:PT1H
X-Robots-Tag:noindex
X-PUBLISHED-TTL:PT1H
BEGIN:VTIMEZONE
TZID:Europe/Athens
BEGIN:DAYLIGHT
TZOFFSETFROM:+0200
TZOFFSETTO:+0300
TZNAME:EEST
DTSTART:20160327T010000
END:DAYLIGHT
BEGIN:STANDARD
TZOFFSETFROM:+0300
TZOFFSETTO:+0200
TZNAME:EET
DTSTART:20161030T010000
END:STANDARD
END:VTIMEZONE
BEGIN:VEVENT
DTSTART;TZID=Europe/Athens:20160128T200000
DTEND;TZID=Europe/Athens:20160128T210000
DTSTAMP:20260421T053222
CREATED:20160118T114138Z
LAST-MODIFIED:20160118T120335Z
UID:3687-1454011200-1454014800@www.stegi-chorus.gr
SUMMARY:Έναρξη Νέου Ιστότοπου Στέγης
DESCRIPTION:Έρχεται! Έρχεται! Έρχεται! Έρχεται! Έρχεται! Έρχεται!
URL:https://www.stegi-chorus.gr/event/%ce%ad%ce%bd%ce%b1%cf%81%ce%be%ce%b7-%ce%bd%ce%ad%ce%bf%cf%85-%ce%b9%cf%83%cf%84%cf%8c%cf%84%ce%bf%cf%80%ce%bf%cf%85-%cf%83%cf%84%ce%ad%ce%b3%ce%b7%cf%82/
LOCATION:Μέγαρο Μουσικής Αθηνών\,  Λ. Βασιλίσσης Σοφίας & Κόκκαλη\, Αθήνα\, 11521\, Ελλάδα
CATEGORIES:Εκδηλώσεις Μελών
ATTACH;FMTTYPE=image/jpeg:https://www.stegi-chorus.gr/wp-content/uploads/2016/01/stegi-logo-2015-front280.jpg
END:VEVENT
END:VCALENDAR