BEGIN:VCALENDAR
VERSION:2.0
PRODID:-//Στέγη Ελληνικών Χορωδιών - ECPv6.6.4.2//NONSGML v1.0//EN
CALSCALE:GREGORIAN
METHOD:PUBLISH
X-ORIGINAL-URL:https://www.stegi-chorus.gr
X-WR-CALDESC:Events for Στέγη Ελληνικών Χορωδιών
REFRESH-INTERVAL;VALUE=DURATION:PT1H
X-Robots-Tag:noindex
X-PUBLISHED-TTL:PT1H
BEGIN:VTIMEZONE
TZID:Europe/Athens
BEGIN:DAYLIGHT
TZOFFSETFROM:+0200
TZOFFSETTO:+0300
TZNAME:EEST
DTSTART:20160327T010000
END:DAYLIGHT
BEGIN:STANDARD
TZOFFSETFROM:+0300
TZOFFSETTO:+0200
TZNAME:EET
DTSTART:20161030T010000
END:STANDARD
END:VTIMEZONE
BEGIN:VEVENT
DTSTART;TZID=Europe/Athens:20160207T120000
DTEND;TZID=Europe/Athens:20160207T120000
DTSTAMP:20260421T040751
CREATED:20160210T170655Z
LAST-MODIFIED:20160210T170756Z
UID:3936-1454846400-1454846400@www.stegi-chorus.gr
SUMMARY:Η Χορωδία «ΟΡΦΕΑΣ» Τρίπολης στην κοπή της πίτας των «εν Αττική Λαγκαδινών»
DESCRIPTION:To μικτό τμήμα της Χορωδίας «ΟΡΦΕΑΣ» Τρίπολης\, υπό τη διεύθυνση της μαέστρου κας Χριστίνας Αθανασοπούλου\, θα συμμετάσχει στην εκδήλωση για την κοπή της πρωτοχρονιάτικης πίτας του “Συνδέσμου των εν Αττική Λαγκαδινών”\, που θα γίνει την Κυριακή 7 Φεβρουαρίου 2016 στις 12:00\, στην αίθουσα του Πνευματικού Κέντρου Κωνσταντινουπολιτών\, επί της οδού Δημητρίου Σούτσου 46 (στάση μετρό Αμπελόκηποι). \nΗ καλλιτεχνική ατζέντα της ημέρας\, περιλαμβάνει επίσης πρόγραμμα με παραδοσιακά τραγούδια της Αρκαδίας\, ερμηνευμένα από ολιγομελή ορχήστρα του συλλόγου.  Μέρος των εσόδων\, από τη συμμετοχή που έχει καθοριστεί στο ποσό των (δέκα) 10 € ανά άτομο\, θα δοθούν για την ενίσχυση των πολιτιστικών δραστηριοτήτων των μαθητών του Δημοτικού Σχολείου Λαγκαδίων. \nΘα θέλαμε να ευχαριστούμε θερμά το ΔΣ του “Συνδέσμου των εν Αττική Λαγκαδινών” για την ιδιαίτερη τιμή να μας προσκαλέσει στην πρώτη τους εκδήλωση για την νέα χρονιά.
URL:https://www.stegi-chorus.gr/event/%ce%b7-%cf%87%ce%bf%cf%81%cf%89%ce%b4%ce%af%ce%b1-%ce%bf%cf%81%cf%86%ce%b5%ce%b1%cf%83-%cf%84%cf%81%ce%af%cf%80%ce%bf%ce%bb%ce%b7%cf%82-%cf%83%cf%84%ce%b7%ce%bd-%ce%ba%ce%bf%cf%80%ce%ae/
LOCATION:Αίθουσα Πνευματικού Κέντρου Κωνσταντινουπολιτών\, Δημητρίου Σούτσου 46 (στάση μετρό Αμπελόκηποι)\, Αθήνα\, Ελλάδα
CATEGORIES:Εκδηλώσεις Μελών
ATTACH;FMTTYPE=image/jpeg:https://www.stegi-chorus.gr/wp-content/uploads/2016/01/orfeas-tripolis-e1455194503146.jpg
ORGANIZER;CN="X%CE%BF%CF%81%CF%89%CE%B4%CE%AF%CE%B1 %E2%80%9C%CE%9F%CE%A1%CE%A6%CE%95%CE%91%CE%A3%E2%80%9D %CE%A4%CF%81%CE%AF%CF%80%CE%BF%CE%BB%CE%B7%CF%82":MAILTO:info@orfeastripolis.gr
END:VEVENT
END:VCALENDAR