BEGIN:VCALENDAR
VERSION:2.0
PRODID:-//Στέγη Ελληνικών Χορωδιών - ECPv6.6.4.2//NONSGML v1.0//EN
CALSCALE:GREGORIAN
METHOD:PUBLISH
X-WR-CALNAME:Στέγη Ελληνικών Χορωδιών
X-ORIGINAL-URL:https://www.stegi-chorus.gr
X-WR-CALDESC:Events for Στέγη Ελληνικών Χορωδιών
REFRESH-INTERVAL;VALUE=DURATION:PT1H
X-Robots-Tag:noindex
X-PUBLISHED-TTL:PT1H
BEGIN:VTIMEZONE
TZID:Europe/Athens
BEGIN:DAYLIGHT
TZOFFSETFROM:+0200
TZOFFSETTO:+0300
TZNAME:EEST
DTSTART:20160327T010000
END:DAYLIGHT
BEGIN:STANDARD
TZOFFSETFROM:+0300
TZOFFSETTO:+0200
TZNAME:EET
DTSTART:20161030T010000
END:STANDARD
END:VTIMEZONE
BEGIN:VEVENT
DTSTART;VALUE=DATE:20160304
DTEND;VALUE=DATE:20160306
DTSTAMP:20260421T024634
CREATED:20160225T120547Z
LAST-MODIFIED:20160311T122331Z
UID:4129-1457053200-1457139599@www.stegi-chorus.gr
SUMMARY:Αποκριά με “Ουζερί….ΟΡΦΕΑ”
DESCRIPTION:Την Παρασκευή\, 04 Μαρτίου 2016\, η χορωδία “ΟΡΦΕΑΣ” Τρίπολης διοργανώνει τον αποκριάτικο χορό της με θέμα “Ουζερί … ΟΡΦΕΑΣ”\, στην αίθουσα του Country Inn\, με αρκετή φαντασία και διάθεση για χορό\, τραγούδι και ποικίλα δρώμενα. Η πρόσκληση είναι ανοιχτή σε παλιά και νέα μέλη του σωματείου\, σε φίλους μας και στις οικογένειές τους.   Σας προσκαλούμε όλους να φορέσετε την στολή σας και να έλθετε μαζί μας να γιορτάσουμε\, να γελάσουμε\, να χορέψουμε\, να αστειευτούμε\, και να ξεφύγουμε από την καθημερινότητα. \nΣας περιμένουμε όλους!!!!!! \nΔιάθεση προσκλήσεων – Κρατήσεις Θέσεων – Πληροφορίες στα εντευκτήρια του “ΟΡΦΕΑ” (Φωτάκου 10) τ.: 2710224622  | κ.: 6907645842 (Δημήτρης Φωτόπουλος)   ή στο email μας info@orfeastripolis.gr \nΤιμή πρόσκλησης: 13 ευρώ και 8 ευρώ [παιδιά έως 12 ετών] \nΔιάθεση λαχνών για κλήρωση δώρων. Τιμή λαχνού 1 ευρώ.
URL:https://www.stegi-chorus.gr/event/%ce%b1%cf%80%ce%bf%ce%ba%cf%81%ce%b9%ce%ac-%ce%bc%ce%b5-%ce%bf%cf%85%ce%b6%ce%b5%cf%81%ce%af-%ce%bf%cf%81%cf%86%ce%b5%ce%b1/
LOCATION:Country Inn\, Τρίπολη\, 22100\, Ελλάδα
CATEGORIES:Εκδηλώσεις Μελών
ATTACH;FMTTYPE=image/jpeg:https://www.stegi-chorus.gr/wp-content/uploads/2016/03/Unknown.jpeg
ORGANIZER;CN="X%CE%BF%CF%81%CF%89%CE%B4%CE%AF%CE%B1 %E2%80%9C%CE%9F%CE%A1%CE%A6%CE%95%CE%91%CE%A3%E2%80%9D %CE%A4%CF%81%CE%AF%CF%80%CE%BF%CE%BB%CE%B7%CF%82":MAILTO:info@orfeastripolis.gr
END:VEVENT
END:VCALENDAR