BEGIN:VCALENDAR
VERSION:2.0
PRODID:-//Στέγη Ελληνικών Χορωδιών - ECPv6.6.4.2//NONSGML v1.0//EN
CALSCALE:GREGORIAN
METHOD:PUBLISH
X-WR-CALNAME:Στέγη Ελληνικών Χορωδιών
X-ORIGINAL-URL:https://www.stegi-chorus.gr
X-WR-CALDESC:Events for Στέγη Ελληνικών Χορωδιών
REFRESH-INTERVAL;VALUE=DURATION:PT1H
X-Robots-Tag:noindex
X-PUBLISHED-TTL:PT1H
BEGIN:VTIMEZONE
TZID:Europe/Athens
BEGIN:DAYLIGHT
TZOFFSETFROM:+0200
TZOFFSETTO:+0300
TZNAME:EEST
DTSTART:20160327T010000
END:DAYLIGHT
BEGIN:STANDARD
TZOFFSETFROM:+0300
TZOFFSETTO:+0200
TZNAME:EET
DTSTART:20161030T010000
END:STANDARD
END:VTIMEZONE
BEGIN:VEVENT
DTSTART;TZID=Europe/Athens:20160305T203000
DTEND;TZID=Europe/Athens:20160305T203000
DTSTAMP:20260421T024633
CREATED:20160226T131359Z
LAST-MODIFIED:20160315T125228Z
UID:4134-1457209800-1457209800@www.stegi-chorus.gr
SUMMARY:"2016 μουσικές στιγμές στον Άγιο Παύλο"
DESCRIPTION:Kodaly Conservatory gr <info@kodaly.gr> \n  \nΗ Αγγλικανική Εκκλησία του Αγίου Παύλου στο Σύνταγμα\, φιλοξενεί μια πρωτότυπη σειρά συναυλιών που θα διαρκέσει ολόκληρο τον χρόνο\, σε έναν χώρο περίφημης ακουστικής\, που αγκαλιάζει όλα τα είδη της μουσικής. Με καλεσμένους μια πλειάδα Ελλήνων καλλιτεχνών\, τόσο από το εσωτερικό της χώρας όσο και από το εξωτερικό\, οι διοργανωτές παρουσιάζουν έργα του κλασικού ρεπερτορίου καθώς και μουσικές του κόσμου όλων των εποχών\, δημιουργώντας μια μοναδική οικειότητα μεταξύ ερμηνευτών και κοινού. \n\nΣάββατο 5 Μαρτίου\, ώρα 20:30 \nΦώτης Πατσέας\, βιολοντσέλοΑποστολία Αναστασίου\, πιάνο“Δύο ρομαντικές σονάτες”\n\nΔύο νέοι μουσικοί στο πρώτο ρεσιτάλ τους εκτός των τοιχών\n\n\n \n\nΔύο νέοι ταλαντούχοι καλλιτέχνες θα προτείνουν την δική τους ερμηνείασε δυο σπουδαία έργα του ρομαντισμού\, την σονάτα για πιάνο και βιολοντσέλο αρ.1\, σε Μι ελάσσονα\, op.38\, του Johannes Brahms\, και την σονάτα για βιολοντσέλο και πιάνο σε Λα μείζονα του César Franck\, σε μεταγραφή από τον Jules Delsart.Ο Φώτης Πατσέας είναι τελειόφοιτος σπουδαστής βιολοντσέλου στην τάξη του Άγγελου Λιακάκη\, στο Ωδείο Kodály. Είναι πτυχιούχος Ανώτερων Θεωρητικών από την τάξη του Γιάννη Γιαννάκου.\nΗ Αποστολία Αναστασίου είναι τελειόφοιτη σπουδάστρια μουσικής δωματίου στην τάξη του Άγγελου Λιακάκη. Μελέτησε πιάνο με την Έλενα Μουζάλα στο ΤΜΣ του Ιονίου Πανεπιστημίουκαι με την Ζωή Σαμσαρέλου στο Κρατικό Ωδείο Θεσσαλονίκης.\n\n“2016 μουσικές στιγμές στον Άγιο Παύλο”Αγγλικανική Εκκλησία Αγίου Παύλου – Φιλελλήνων 27\, ΣύνταγμαΠληροφορίες – ΚρατήσειςΥπηρεσία εισιτηρίων: 2107234567www.ticketservices.gr Τιμή εισιτηρίου: 12 & 8 ευρώ (φοιτητές\, άνεργοι\, ΑΜΕΑ\, πολύτεκνοι)\n\n\nΔιοργάνωση και επικοινωνιακή προβολή: specs ‘n’ artsΠαραγωγή: Αrte Αtene
URL:https://www.stegi-chorus.gr/event/2016-%ce%bc%ce%bf%cf%85%cf%83%ce%b9%ce%ba%ce%ad%cf%82-%cf%83%cf%84%ce%b9%ce%b3%ce%bc%ce%ad%cf%82-%cf%83%cf%84%ce%bf%ce%bd-%ce%ac%ce%b3%ce%b9%ce%bf-%cf%80%ce%b1%cf%8d%ce%bb%ce%bf/
LOCATION:Αγγλικανική Εκκλησία Αγίου Παύλου\, Φιλελλήνων 27\, Σύνταγμα \, Αθήνα\, Ελλάδα
CATEGORIES:Εκδηλώσεις Μελών
ATTACH;FMTTYPE=image/jpeg:https://www.stegi-chorus.gr/wp-content/uploads/2016/01/69-1.jpg
ORGANIZER;CN="%CE%A9%CE%B4%CE%B5%CE%AF%CE%BF KODALY - %CE%A7%CE%BF%CF%81%CF%89%CE%B4%CE%AF%CE%B5%CF%82 %CE%A9%CE%B4%CE%B5%CE%AF%CE%BF%CF%85 %CE%9A%CE%9FDALY":MAILTO:info@kodaly.gr
END:VEVENT
END:VCALENDAR