BEGIN:VCALENDAR
VERSION:2.0
PRODID:-//Στέγη Ελληνικών Χορωδιών - ECPv6.6.4.2//NONSGML v1.0//EN
CALSCALE:GREGORIAN
METHOD:PUBLISH
X-WR-CALNAME:Στέγη Ελληνικών Χορωδιών
X-ORIGINAL-URL:https://www.stegi-chorus.gr
X-WR-CALDESC:Events for Στέγη Ελληνικών Χορωδιών
REFRESH-INTERVAL;VALUE=DURATION:PT1H
X-Robots-Tag:noindex
X-PUBLISHED-TTL:PT1H
BEGIN:VTIMEZONE
TZID:Europe/Athens
BEGIN:DAYLIGHT
TZOFFSETFROM:+0200
TZOFFSETTO:+0300
TZNAME:EEST
DTSTART:20160327T010000
END:DAYLIGHT
BEGIN:STANDARD
TZOFFSETFROM:+0300
TZOFFSETTO:+0200
TZNAME:EET
DTSTART:20161030T010000
END:STANDARD
END:VTIMEZONE
BEGIN:VEVENT
DTSTART;TZID=Europe/Athens:20160321T200000
DTEND;TZID=Europe/Athens:20160321T200000
DTSTAMP:20260421T024633
CREATED:20160311T141954Z
LAST-MODIFIED:20160315T122635Z
UID:4149-1458590400-1458590400@www.stegi-chorus.gr
SUMMARY:52° Κοντσέρτο της Χορωδίας Τρίπολης
DESCRIPTION:Η ΧΟΡΩΔΙΑ ΤΡΙΠΟΛΗΣ επανέρχεται\, ενόψει καινούργιου χρόνου\, στον γνώριμο ρυθμό δραστηριότητάς της\, με δύο εξαιρετικές εκδηλώσεις\, τις οποίες θα χάσουν όσοι δεν τις παρακολουθήσουν: \nΤο 52° Κοντσέρτο της Χ.Τ. με το διεθνές “ντουέτο” (πιάνο βιολοντσέλο)\, Μαρία Παπαπετροπούλου και Σεντέφ Ερτσεντίν (Βραβείο Ιπεκτσί)\, Ελλάδα-Τουρκία\, αντίστοιχα\, παρουσιάζεται στο “Μαλλιαροπούλειο θέατρο” τη Δευτέρα 21 Μάρτη και ώρα 8.00 το βράδυ. Θα είναι μια βραδιά μαγείας\, για όσους παρακολουθήσουν τη Συναυλία\, αφού θ’ απολαύσουν ένα “Μουσικό ταξίδι στη Λατινική Αμερική”! \nΗ εκδηλώση θα είναι με ελεύθερη είσοδο για το κοινό. \nπληροφορίες για την δεύτερη εκδήλωση της Χορωδίας Τρίπολης
URL:https://www.stegi-chorus.gr/event/%ce%b7-%cf%87%ce%bf%cf%81%cf%89%ce%b4%ce%b9%ce%b1-%cf%84%cf%81%ce%b9%cf%80%ce%bf%ce%bb%ce%b7%cf%83-%ce%b5%cf%80%ce%b1%ce%bd%ce%ad%cf%81%cf%87%ce%b5%cf%84%ce%b1%ce%b9/
LOCATION:ΜΑΛΛΙΑΡΟΠΟΥΛΕΙΟ Θέατρο Τρίπολης\, Τρίπολη\, Ελλάδα
CATEGORIES:Εκδηλώσεις Μελών
ATTACH;FMTTYPE=image/jpeg:https://www.stegi-chorus.gr/wp-content/uploads/2016/03/xorodia-tripolis.jpg
ORGANIZER;CN="%CE%A7%CE%BF%CF%81%CF%89%CE%B4%CE%AF%CE%B1 %CE%A4%CF%81%CE%AF%CF%80%CE%BF%CE%BB%CE%B7%CF%82":MAILTO:info@choirtripolis.gr
END:VEVENT
END:VCALENDAR