BEGIN:VCALENDAR
VERSION:2.0
PRODID:-//Στέγη Ελληνικών Χορωδιών - ECPv6.6.4.2//NONSGML v1.0//EN
CALSCALE:GREGORIAN
METHOD:PUBLISH
X-ORIGINAL-URL:https://www.stegi-chorus.gr
X-WR-CALDESC:Events for Στέγη Ελληνικών Χορωδιών
REFRESH-INTERVAL;VALUE=DURATION:PT1H
X-Robots-Tag:noindex
X-PUBLISHED-TTL:PT1H
BEGIN:VTIMEZONE
TZID:Europe/Athens
BEGIN:DAYLIGHT
TZOFFSETFROM:+0200
TZOFFSETTO:+0300
TZNAME:EEST
DTSTART:20160327T010000
END:DAYLIGHT
BEGIN:STANDARD
TZOFFSETFROM:+0300
TZOFFSETTO:+0200
TZNAME:EET
DTSTART:20161030T010000
END:STANDARD
END:VTIMEZONE
BEGIN:VEVENT
DTSTART;TZID=Europe/Athens:20160702T213000
DTEND;TZID=Europe/Athens:20160702T213000
DTSTAMP:20260420T210319
CREATED:20160701T065848Z
LAST-MODIFIED:20160704T070825Z
UID:5077-1467495000-1467495000@www.stegi-chorus.gr
SUMMARY:Πέντε Αιώνες Χορωδιακής Μουσικής
DESCRIPTION:Η Μικρή Ορχήστρα & Μικτή Χορωδία του Ωδείου Kodály\, υπο την διεύθυνση του μαέστρου Μιχάλη Πατσέα\, θα πραγματοποιήσει εκδήλωση <<Πέντε Αιώνες Χορωδιακής Μουσικής>>\,  στο Αρχαίο Θέατρο Μεσσήνης\, το Σαββάτο 2 Ιουλίου 2016 και ώρα 8.30μ.μ. \nΗ Μικρή Λειτουργία σε Ρε μείζονα του Mozart πλαισιωμένη από θρησκευτικά και κοσμικά έργα από εννιά ευρωπαϊκές χώρες\, για τετράφωνη χορωδία. \nΗ είσοδος για το κοινό είναι ελεύθερη. \nΟργάνωση: Φίλοι του Μουσείου Τάκη Κατσουλίδη \nΣυμμετέχει ο Δήμος Μεσσήνης
URL:https://www.stegi-chorus.gr/event/%cf%80%ce%ad%ce%bd%cf%84%ce%b5-%ce%b1%ce%b9%cf%8e%ce%bd%ce%b5%cf%82-%cf%87%ce%bf%cf%81%cf%89%ce%b4%ce%b9%ce%b1%ce%ba%ce%ae%cf%82-%ce%bc%ce%bf%cf%85%cf%83%ce%b9%ce%ba%ce%ae%cf%82/
LOCATION:Αρχαίο Θέατρο Μεσσήνης\, Ελλάδα
CATEGORIES:Εκδηλώσεις Μελών,Προτάσεις
END:VEVENT
END:VCALENDAR