BEGIN:VCALENDAR
VERSION:2.0
PRODID:-//Στέγη Ελληνικών Χορωδιών - ECPv6.6.4.2//NONSGML v1.0//EN
CALSCALE:GREGORIAN
METHOD:PUBLISH
X-ORIGINAL-URL:https://www.stegi-chorus.gr
X-WR-CALDESC:Events for Στέγη Ελληνικών Χορωδιών
REFRESH-INTERVAL;VALUE=DURATION:PT1H
X-Robots-Tag:noindex
X-PUBLISHED-TTL:PT1H
BEGIN:VTIMEZONE
TZID:Europe/Athens
BEGIN:DAYLIGHT
TZOFFSETFROM:+0200
TZOFFSETTO:+0300
TZNAME:EEST
DTSTART:20160327T010000
END:DAYLIGHT
BEGIN:STANDARD
TZOFFSETFROM:+0300
TZOFFSETTO:+0200
TZNAME:EET
DTSTART:20161030T010000
END:STANDARD
END:VTIMEZONE
BEGIN:VEVENT
DTSTART;TZID=Europe/Athens:20160715T220000
DTEND;TZID=Europe/Athens:20160717T220000
DTSTAMP:20260420T210755
CREATED:20160714T102311Z
LAST-MODIFIED:20160715T103104Z
UID:5104-1468620000-1468792800@www.stegi-chorus.gr
SUMMARY:7ο Φεστιβάλ Green Theater - Η Βυζαντινή Παραδοσιακή Χορωδία «Θεόδωρος Φωκαεύς» στη Νεμέα
DESCRIPTION:Στo πλαίσιο του 7ου Φεστιβάλ Green Theater 2016 \, στο θέατρο Αρχαίων Κλεωνών Νεμέας\, πραγματοποιείται στις 15\, 16 και 17 Ιουλίου τριήμερο αφιέρωμα στην Ψαλτική Τέχνη\, με τη συνεργασία και επιστημονική επιμέλεια του Καθηγητή του Εθνικού και Καποδιστριακού Πανεπιστημίου Αθηνών κ. Αχιλλέα Χαλδαιάκη.  \nΣτο τριήμερο αυτό φεστιβάλ θα ερμηνευτούν βυζαντινοί ύμνοι από δέκα βυζαντινές χορωδίες\, τις αντιπροσωπευτικότερες της Πελοποννήσου\, ενώ θα συμμετέχουν μία  παιδική χορωδία από την Καλαμάτα και μια μικτή Θρησκευτική  χορωδία από την Πάτρα. \nΣτην συγκεκριμένη χορωδιακή συνάντηση έχει τιμητικά επιλεγεί να συμμετέχει και η  Βυζαντινή – Παραδοσιακή χορωδία Πατρών με 40μελή αποστολή\,  με χοράρχη τον Καθηγητή Βυζαντινής μουσικής και Πρωτοψάλτη του Ι.Ν. Αγίας Σοφίας Πατρών κ. Χαράλαμπο Θεοτοκάτο. \nΟ Βυζαντινός χορός\, θα αποδώσει την Κυριακή 17 Ιουλίου το βράδυ\, ένα μουσικό πρόγραμμα 20 περίπου λεπτών\, το οποίο περιλαμβάνει αντιπροσωπευτικά κομμάτια απ’ όλα τα είδη του Βυζαντινού μέλους. \nΗ είσοδος για το κοινό θα είναι ελεύθερη.
URL:https://www.stegi-chorus.gr/event/%ce%b7-%ce%b2%cf%85%ce%b6%ce%b1%ce%bd%cf%84%ce%b9%ce%bd%ce%ae-%cf%80%ce%b1%cf%81%ce%b1%ce%b4%ce%bf%cf%83%ce%b9%ce%b1%ce%ba%ce%ae-%cf%87%ce%bf%cf%81%cf%89%ce%b4%ce%af%ce%b1-%ce%b8/
LOCATION:θέατρο Αρχαίων Κλεωνών Νεμέας\, Νεμέα\, Ελλάδα
CATEGORIES:Εκδηλώσεις Μελών,Προτάσεις,Φεστιβάλ Εσωτερικού
END:VEVENT
END:VCALENDAR