BEGIN:VCALENDAR
VERSION:2.0
PRODID:-//Στέγη Ελληνικών Χορωδιών - ECPv6.6.4.2//NONSGML v1.0//EN
CALSCALE:GREGORIAN
METHOD:PUBLISH
X-ORIGINAL-URL:https://www.stegi-chorus.gr
X-WR-CALDESC:Events for Στέγη Ελληνικών Χορωδιών
REFRESH-INTERVAL;VALUE=DURATION:PT1H
X-Robots-Tag:noindex
X-PUBLISHED-TTL:PT1H
BEGIN:VTIMEZONE
TZID:Europe/Athens
BEGIN:DAYLIGHT
TZOFFSETFROM:+0200
TZOFFSETTO:+0300
TZNAME:EEST
DTSTART:20170326T010000
END:DAYLIGHT
BEGIN:STANDARD
TZOFFSETFROM:+0300
TZOFFSETTO:+0200
TZNAME:EET
DTSTART:20171029T010000
END:STANDARD
END:VTIMEZONE
BEGIN:VEVENT
DTSTART;VALUE=DATE:20170422
DTEND;VALUE=DATE:20170425
DTSTAMP:20260420T094402
CREATED:20170410T080044Z
LAST-MODIFIED:20170420T075120Z
UID:5639-1492826400-1492999199@www.stegi-chorus.gr
SUMMARY:7ο Παγκόσμιο Φεστιβάλ Χορωδιών Μιούζικαλ
DESCRIPTION:Η Χορωδία “ΚΟΡΑΗΣ” σας προσκαλεί να συμμετέχετε σε ένα Φεστιβάλ Χαράς που θα πραγματοποιηθεί από 21 έως 23 Απριλίου 2017\, στην πόλη της Θεσσαλονίκης.\nΗ πόλη της Βόρειας Ελλάδας με το γλυκό μεσογειακό κλίμα\, την εγκαρδιότητα των κατοίκων της και την μακραίωνη ιστορία που αποτυπώνεται στα πλούσια αρχαία μνημεία της\, σας υπόσχεται μια αξέχαστη διαμονή γεμάτη πρωτόγνωρες εμπειρίες. Επιπλέον η αγάπη για το Μιούζικαλ που επιδεικνύουν οι χιλιάδες των θεατών που παρακολουθούν κάθε χρόνο το Φεστιβάλ και η θερμή ατμόσφαιρα ενθουσιασμού και χαράς που δημιουργούν\, κάνουν το Παγκόσμιο Φεστιβάλ Χορωδιών Μιούζικαλ μοναδικό γεγονός σε όλο τον κόσμο\, χαρίζοντας σε όλους τους συμμετέχοντες ξεχωριστές και αξέχαστες συγκινήσεις.\nΤο Παγκόσμιο Φεστιβάλ Χορωδιών Μιούζικαλ είναι αφιερωμένο στην Ειρήνη\, τη Φιλία\, τη Συνεργασία\, τη Συναδέλφωση και την Αλληλεγγύη ανάμεσα στους λαούς. \n7th World Choir Festival on Musicals\, 22 – 23 of April\, 2017\nFestival Program \n22th April\, Saturday\n11.30. Odeion at the Roman Agora. Official Festival Opening Ceremony. Concert with the participation of all the participant choirs. Each choir will perform two songs.\n20.00. Ceremony Hall of the Aristotle University of Thessaloniki. .\nWelcome speech from the Organisational and the Artistic Committee\n– Short tribute in memorial of the Red Army’s choir.\n– Two Russian songs from the New European Women’s choir “Agapi” from Perea.\n– Distinguised city dancers\, taught by Sotiris Karamitsios will present Zorba”\nMusicals Program\n– “Filippos Glee” Choir of Veria\, GREECE\n– “Atatürk Youth Choir”\, Antalya. TURKEY\n– “New European Women’s Choir “Agapi” Perea\, GREECE\n– “Chamber Choir “Melodium”\, Bitola\, FORMER ΥUGOSLAV REPUBLIC OF\nMACEDONIA\n23th April May\, Sunday Program of the Choirs’ own choice\n11.00 . Ceremony Hall of the Aristotle University of Thessaloniki.\n– “Agios Athanasios Choir” Limassol\, CYPRUS\n– Vocal Ensemble of the Serbo-Greek Friendship Association “Irida”\, SERBIA\n– “Ariones Choir” of Limassol\, CYPRUS\n– “Μousiki Gonia” Choir of the Moschatos-Tavros Municipality\, GREECE\n– “Prima” Choir\, Pomorie. BULGARIA\n20.00. Ceremony Hall of the Aristotle University of Thessaloniki\n– Ensemble “Sacralissimo”. ΒULGARIA\nMusicals Program\n– Choreographies from the “Diagonal” Dance School\n– Women Choral Ensemble “Thamyris Group”\, Thessaloniki\, GREECE\n– Mixte Choir of Morgins\, SWITZERLAND\n– “Korais” Choir\, Thessaloniki\, GREECE
URL:https://www.stegi-chorus.gr/event/7%ce%bf-%cf%80%ce%b1%ce%b3%ce%ba%cf%8c%cf%83%ce%bc%ce%b9%ce%bf-%cf%86%ce%b5%cf%83%cf%84%ce%b9%ce%b2%ce%ac%ce%bb-%cf%87%ce%bf%cf%81%cf%89%ce%b4%ce%b9%cf%8e%ce%bd-%ce%bc%ce%b9%ce%bf%cf%8d%ce%b6%ce%b9/
CATEGORIES:Εκδηλώσεις Μελών
ATTACH;FMTTYPE=image/jpeg:https://www.stegi-chorus.gr/wp-content/uploads/2017/04/7-miouzikal.jpg
END:VEVENT
END:VCALENDAR