BEGIN:VCALENDAR
VERSION:2.0
PRODID:-//Στέγη Ελληνικών Χορωδιών - ECPv6.6.4.2//NONSGML v1.0//EN
CALSCALE:GREGORIAN
METHOD:PUBLISH
X-ORIGINAL-URL:https://www.stegi-chorus.gr
X-WR-CALDESC:Events for Στέγη Ελληνικών Χορωδιών
REFRESH-INTERVAL;VALUE=DURATION:PT1H
X-Robots-Tag:noindex
X-PUBLISHED-TTL:PT1H
BEGIN:VTIMEZONE
TZID:Europe/Athens
BEGIN:DAYLIGHT
TZOFFSETFROM:+0200
TZOFFSETTO:+0300
TZNAME:EEST
DTSTART:20170326T010000
END:DAYLIGHT
BEGIN:STANDARD
TZOFFSETFROM:+0300
TZOFFSETTO:+0200
TZNAME:EET
DTSTART:20171029T010000
END:STANDARD
END:VTIMEZONE
BEGIN:VEVENT
DTSTART;VALUE=DATE:20170506
DTEND;VALUE=DATE:20170508
DTSTAMP:20260420T082309
CREATED:20170502T065432Z
LAST-MODIFIED:20170502T065432Z
UID:5707-1494036000-1494122399@www.stegi-chorus.gr
SUMMARY:Εις την Μητέρα της ζωής μας
DESCRIPTION:Ένα μουσικό αφιέρωμα στο ιερό πρόσωπο της Μητέρας \n– «Εις την Μητέρα της ζωής μας»: ποίηση Αγίου Νεκταρίου\, σύνθεση Μιχάλη Μακρή\, ενορχήστρωση Κωνσταντίνου Τσιλίδη\n–  Βυζαντινά μέλη από τη γραπτή και την προφορική παράδοση και μελωδήματα από την παραδοσιακή και έντεχνη μουσική\, αφιερωμένα στη Μητέρα \nΟρθόδοξη Εκκλησιαστική Βυζαντινή Χορωδία\nΠαραδοσιακή Χορωδία και Ορχήστρα Εθνικού Ωδείου Αθηνών\nΔιδασκαλία\, μουσική διεύθυνση: Μιχάλης Μακρής \nΔιεύθυνση βυζαντινής ερμηνείας της σύνθεσης\n«Εις την Μητέρα της ζωής μας»: Στέλιος Μακρής \nΣυμμετέχουν:\nΧορωδία Εθνικού Ωδείου Αθηνών\nΔιδασκαλία: Σπύρος Κλάψης\nΜικτή Χορωδία Σ.Υ. Τραπέζης της Ελλάδος\nΔιδασκαλία: Κώστας Ευαγγελάτος\nΦΙΛ.Ο.Ν. (Φιλαρμονική Ορχήστρα Νέων)\nΔιεύθυνση: Γιώργος Τσιλίδης \nΠαρουσίαζει ο δημοσιογράφος Δημήτρης Στάμου \n«Μια μουσική πανδαισία\, μια εκδήλωση τιμής για την Ελπίδα που γεννά απαντοχή\, για τη μητέρα του Θεού μας αλλά και μητέρα της ζωής μας\, είναι η νέα μας αυτή μουσική παράσταση… Ψάλλουμε βυζαντινά για την Παναγιά μας ύμνους ικετευτικούς αλλά και δοξολογικούς. Ο θησαυρός της οκτωηχίας επενδύει το λόγο και αποδίδεται\, με πίστη στη μουσική μας παράδοση\, με ιεροπρέπεια και κατάνυξη\, τιμή στο ιερότερο πρόσωπο της Ρωμιοσύνης\, την Παναγιά μας.\nΤελειώνοντας το πρώτο μέρος\, έχουμε μια πρωτόγνωρη αλλά επιτυχή και συνάμα εντυπωσιακή συνάντηση των δύο μουσικών πολιτισμών\, των δύο μουσικών τρόπων Ανατολής και Δύσης… Στο δεύτερο μέρος της συναυλίας\, με το δημοτικό μας τραγούδι\, με απλά και ανεπιτήδευτα λόγια\, τραγουδούμε γι’ αυτήν που όλοι μας της χρωστούμε ένα μεγάλο ευχαριστώ. Γι’ αυτήν που μας κράτησε το χέρι στη δύσκολη στιγμή\, που πάντα μας συμπαραστέκεται και μας δίνει την ευχή της\, τη γλυκιά μας μάνα. Ας είναι η αποψινή μας εκδήλωση ένα ελάχιστο αντίδωρο ευγνωμοσύνης για όλες της μητέρες του κόσμου.» \nΑπό τον Πρόλογο του Μανώλη Βαμβακά
URL:https://www.stegi-chorus.gr/event/%ce%b5%ce%b9%cf%82-%cf%84%ce%b7%ce%bd-%ce%bc%ce%b7%cf%84%ce%ad%cf%81%ce%b1-%cf%84%ce%b7%cf%82-%ce%b6%cf%89%ce%ae%cf%82-%ce%bc%ce%b1%cf%82/
LOCATION:Μέγαρο Μουσικής Αθηνών\,  Λ. Βασιλίσσης Σοφίας & Κόκκαλη\, Αθήνα\, 11521\, Ελλάδα
CATEGORIES:Εκδηλώσεις Μελών
ATTACH;FMTTYPE=image/jpeg:https://www.stegi-chorus.gr/wp-content/uploads/2017/05/mana-Α.Μ.58.jpg
END:VEVENT
END:VCALENDAR