BEGIN:VCALENDAR
VERSION:2.0
PRODID:-//Στέγη Ελληνικών Χορωδιών - ECPv6.6.4.2//NONSGML v1.0//EN
CALSCALE:GREGORIAN
METHOD:PUBLISH
X-WR-CALNAME:Στέγη Ελληνικών Χορωδιών
X-ORIGINAL-URL:https://www.stegi-chorus.gr
X-WR-CALDESC:Events for Στέγη Ελληνικών Χορωδιών
REFRESH-INTERVAL;VALUE=DURATION:PT1H
X-Robots-Tag:noindex
X-PUBLISHED-TTL:PT1H
BEGIN:VTIMEZONE
TZID:Europe/Athens
BEGIN:DAYLIGHT
TZOFFSETFROM:+0200
TZOFFSETTO:+0300
TZNAME:EEST
DTSTART:20170326T010000
END:DAYLIGHT
BEGIN:STANDARD
TZOFFSETFROM:+0300
TZOFFSETTO:+0200
TZNAME:EET
DTSTART:20171029T010000
END:STANDARD
END:VTIMEZONE
BEGIN:VEVENT
DTSTART;VALUE=DATE:20170519
DTEND;VALUE=DATE:20170523
DTSTAMP:20260420T082249
CREATED:20170420T100826Z
LAST-MODIFIED:20170420T100908Z
UID:5664-1495159200-1495418399@www.stegi-chorus.gr
SUMMARY:8° ΠΑΝΕΛΛΗΝΙΟ ΘΡΗΣΚΕΥΤΙΚΟ ΦΕΣΤΙΒΑΛ ΧΟΡΩΔΙΑΣ ΤΡΙΠΟΛΗΣ
DESCRIPTION:Το ΠΑΝΕΛΛΗΝΙΟ ΘΡΗΣΚΕΥΤΙΚΟ ΦΕΣΤΙΒΑΛ\, που\, πραγματοποιείται\, κατ’ έτος\, από τη ΧΟΡΩΔΙΑ ΤΡΙΠΟΛΗΣ\, αποτελεί\, πλέον θεσμό… Ήδη\, από σήμερα “βγαίνει στον αέρα” το 8°\, το οποίο θα λάβει χώρα\, φέτος\, στην Τρίπολη και στο Μητροπολιτικό Ι.Ν. του Αγίου Βασιλείου\, το προτελευταίο “ΠαρασκευοΣαββατοΚύριακο” του Μαΐου\, 19 – 20 – 21 του μήνα.\nΌπως κάθε χρόνο\, έτσι και φέτος\, λοιπόν\, το Φεστιβάλ πραγματοποιείται\, υπό την αιγίδα της Ι.Μ. Μαντινείας και Κυνουρίας και\, ιδιαίτερα\, υπό την προσωπική συμβολή του Μητροπολίτου κ. κ. ΑΛΕΞΑΝΔΡΟΥ ο οποίος και το θέσπισε… \nΟ περικαλλής λευκομάρμαρος Ναός του Αγίου Βασιλείου με την υπέροχη ακουστική είναι ο μοναδικός στην Ελλάδα και στον κόσμο\, που\, στο ισόγειό του διαθέτει μιάμιση δεκάδα μικροκαταστήματα\, οπότε\, και αποτελεί εκκλησιαστικό μνημείο άξιο περιέργειας\, έρευνας και θαυμασμού! Προεπαναστατικά\, στον ίδιο χώρο υπήρχε πανομοιότυπο τζαμί…\nΟι Συναυλίες που θα δοθούν είναι τρεις (3) ήτοι: η πρώτη και η δεύτερη το βράδυ της Παρασκευής και του Σαββάτου\, και η τρίτη την Κυριακή το πρωί. \nΤο Πρόγραμμα που καλείται να καλύψει η καθεμιά Χορωδία είναι 25λεπτο.\nΤο Ρεπερτόριο πρέπει να είναι Θρησκευτικό (Ελληνικό ή Ξένο) ελεύθερης επιλογής.\nΤο Φεστιβάλ αφορά όλων των ειδών τις Χορωδίες -πλην Παιδικών- και εντάσσεται στις Γιορτές των Πολιούχων της πόλης (22 Μαΐου)\, των Νεομαρτύρων Δημητρίου και Παύλου.\nΕν ευθέτω χρόνω\, θα επακολουθήσουν και άλλες ανακοινώσεις…\nΘα τηρηθεί σειρά προτεραιότητας… \nΓια Δηλώσεις συμμετοχής και για περισσότερες πληροφορίες απευθυνθείτε στους: Γιάννη Σάσσαλο (τηλ. 6978000589) και Νίκο Γαργαλιώνη (τηλ. 2710227377 και 6977719001).
URL:https://www.stegi-chorus.gr/event/8-%cf%80%ce%b1%ce%bd%ce%b5%ce%bb%ce%bb%ce%b7%ce%bd%ce%b9%ce%bf-%ce%b8%cf%81%ce%b7%cf%83%ce%ba%ce%b5%cf%85%cf%84%ce%b9%ce%ba%ce%bf-%cf%86%ce%b5%cf%83%cf%84%ce%b9%ce%b2%ce%b1%ce%bb-%cf%87%ce%bf/
CATEGORIES:Εκδηλώσεις Μελών
ATTACH;FMTTYPE=image/jpeg:https://www.stegi-chorus.gr/wp-content/uploads/2013/01/xorodiatripolis-350x233.jpg
END:VEVENT
END:VCALENDAR