BEGIN:VCALENDAR
VERSION:2.0
PRODID:-//Στέγη Ελληνικών Χορωδιών - ECPv6.6.4.2//NONSGML v1.0//EN
CALSCALE:GREGORIAN
METHOD:PUBLISH
X-WR-CALNAME:Στέγη Ελληνικών Χορωδιών
X-ORIGINAL-URL:https://www.stegi-chorus.gr
X-WR-CALDESC:Events for Στέγη Ελληνικών Χορωδιών
REFRESH-INTERVAL;VALUE=DURATION:PT1H
X-Robots-Tag:noindex
X-PUBLISHED-TTL:PT1H
BEGIN:VTIMEZONE
TZID:Europe/Athens
BEGIN:DAYLIGHT
TZOFFSETFROM:+0200
TZOFFSETTO:+0300
TZNAME:EEST
DTSTART:20170326T010000
END:DAYLIGHT
BEGIN:STANDARD
TZOFFSETFROM:+0300
TZOFFSETTO:+0200
TZNAME:EET
DTSTART:20171029T010000
END:STANDARD
END:VTIMEZONE
BEGIN:VEVENT
DTSTART;VALUE=DATE:20170610
DTEND;VALUE=DATE:20170613
DTSTAMP:20260420T064725
CREATED:20170607T173748Z
LAST-MODIFIED:20170607T173848Z
UID:5798-1497060000-1497232799@www.stegi-chorus.gr
SUMMARY:29α Χορωδιακά (Κηφισιά)
DESCRIPTION:Τα 29α Χορωδιακά του Δήμου Κηφισιάς θα πραγματοποιηθούν το Σαββατοκύριακο 10-11 Ιουνίου στο αίθριο του Δημαρχείου Κηφισιάς (ώρα έναρξης 20:30). Ο ιστορικός θεσμός της πόλης  για ακόμα μία χρονιά αναμένεται να αποτελέσει ένα «µελωδικό µουσικό ταξίδι» µε τη συμμετοχή της παιδικής χορωδίας\, των χορωδιών Κηφισιάς του Ν.Π.Δ.Δ. Πολιτισμού & Αθλητισμού του Δήμου και της χορωδίας Κηφισιάς 1937\, καθώς κι άλλων χορωδιών όμορων δήμων. \nΦέτος τα Χορωδιακά θα πραγματοποιηθούν σε δύο βραδιές. \nΤο Σάββατο 10 Ιουνίου συμμετέχουν οι χορωδίες: \nΑ) Παιδική Χορωδία του Ν.Π.Δ.Δ. «Δημήτριος Βικέλας» Δήμου Κηφισιάς. Διευθύνει ο Θανάσης Αρβανίτης. \nΒ) Χορωδία Εκπαιδευτικών Μουσικής Αττικής. Διευθύνει η Φαίδρα Γιαννέλου. \nΓ) Χορωδία VOICEBOX. Διευθύνει η Μαργαρίτα Παπαδημητρίου. \nΔ) Μικτή Χορωδία Ν.Π.Δ.Δ. «Δημήτριος Βικέλας» Δήμου Κηφισιάς. Διευθύνει ο Θανάσης Αρβανίτης. \nΕ) Χορωδία ΟΤΕ. Διευθύνει ο Δημήτρης Μπουζάνης. \nΤην Κυριακή 11 Ιουνίου συμμετέχουν οι χορωδίες: \nΑ) Χορωδία ΣΩ.ΣΗ.ΜΟ. Διευθύνει ο Γιάννης Κ. Θεοδωρόπουλος. \nΒ) Χορωδία «Ιντερλούδιο». Διευθύνει η Μπέσσυ Νώτη. \nΓ) Μικτή Χορωδία Δήμου Διονύσου. Διευθύνει ο Ματθαίος Λεγάκης. \nΔ )Χορωδία Κηφισιάς 1937. Διευθύνει ο Χαράλαμπος Μιχαηλίδης. \nΚαλλιτεχνικός διευθυντής: Θανάσης Αρβανίτης \n Η είσοδος για το κοινό θα είναι ελεύθερη.
URL:https://www.stegi-chorus.gr/event/29%ce%b1-%cf%87%ce%bf%cf%81%cf%89%ce%b4%ce%b9%ce%b1%ce%ba%ce%ac-%cf%83%cf%84%ce%b7%ce%bd-%ce%ba%ce%b7%cf%86%ce%b9%cf%83%ce%b9%ce%ac/
CATEGORIES:Εκδηλώσεις Μελών
ATTACH;FMTTYPE=image/jpeg:https://www.stegi-chorus.gr/wp-content/uploads/2017/06/ΜΕΛΟΣ-ΣΤΕΓΗΣ-1.jpg
END:VEVENT
END:VCALENDAR