BEGIN:VCALENDAR
VERSION:2.0
PRODID:-//Στέγη Ελληνικών Χορωδιών - ECPv6.6.4.2//NONSGML v1.0//EN
CALSCALE:GREGORIAN
METHOD:PUBLISH
X-WR-CALNAME:Στέγη Ελληνικών Χορωδιών
X-ORIGINAL-URL:https://www.stegi-chorus.gr
X-WR-CALDESC:Events for Στέγη Ελληνικών Χορωδιών
REFRESH-INTERVAL;VALUE=DURATION:PT1H
X-Robots-Tag:noindex
X-PUBLISHED-TTL:PT1H
BEGIN:VTIMEZONE
TZID:Europe/Athens
BEGIN:DAYLIGHT
TZOFFSETFROM:+0200
TZOFFSETTO:+0300
TZNAME:EEST
DTSTART:20170326T010000
END:DAYLIGHT
BEGIN:STANDARD
TZOFFSETFROM:+0300
TZOFFSETTO:+0200
TZNAME:EET
DTSTART:20171029T010000
END:STANDARD
END:VTIMEZONE
BEGIN:VEVENT
DTSTART;VALUE=DATE:20171110
DTEND;VALUE=DATE:20171114
DTSTAMP:20260420T001714
CREATED:20170918T143902Z
LAST-MODIFIED:20171031T123827Z
UID:6038-1510275600-1510534799@www.stegi-chorus.gr
SUMMARY:4ο Σεμινάριο Χορωδιακής Μουσικής Στέγης
DESCRIPTION:4ο Πανελλήνιο Σεμινάριο στη Λάρισα  με τον Αντώνη Κοντογεωργίου\n\nΑναλυτικές πληροφορίες στη σελίδα του Σεμιναρίου.
URL:https://www.stegi-chorus.gr/event/4%ce%bf-%cf%83%ce%b5%ce%bc%ce%b9%ce%bd%ce%ac%cf%81%ce%b9%ce%bf-%cf%87%ce%bf%cf%81%cf%89%ce%b4%ce%b9%ce%b1%ce%ba%ce%ae%cf%82-%ce%bc%ce%bf%cf%85%cf%83%ce%b9%ce%ba%ce%ae%cf%82-%cf%83%cf%84%ce%ad%ce%b3/
CATEGORIES:Εκδηλώσεις Μελών
ATTACH;FMTTYPE=image/jpeg:https://www.stegi-chorus.gr/wp-content/uploads/2017/09/Αφίσα-4ο-σεμινάριο.jpg
END:VEVENT
END:VCALENDAR