BEGIN:VCALENDAR
VERSION:2.0
PRODID:-//Στέγη Ελληνικών Χορωδιών - ECPv6.6.4.2//NONSGML v1.0//EN
CALSCALE:GREGORIAN
METHOD:PUBLISH
X-ORIGINAL-URL:https://www.stegi-chorus.gr
X-WR-CALDESC:Events for Στέγη Ελληνικών Χορωδιών
REFRESH-INTERVAL;VALUE=DURATION:PT1H
X-Robots-Tag:noindex
X-PUBLISHED-TTL:PT1H
BEGIN:VTIMEZONE
TZID:Europe/Athens
BEGIN:DAYLIGHT
TZOFFSETFROM:+0200
TZOFFSETTO:+0300
TZNAME:EEST
DTSTART:20170326T010000
END:DAYLIGHT
BEGIN:STANDARD
TZOFFSETFROM:+0300
TZOFFSETTO:+0200
TZNAME:EET
DTSTART:20171029T010000
END:STANDARD
END:VTIMEZONE
BEGIN:VEVENT
DTSTART;VALUE=DATE:20171124
DTEND;VALUE=DATE:20171129
DTSTAMP:20260419T230156
CREATED:20171018T075826Z
LAST-MODIFIED:20171018T080406Z
UID:6094-1511485200-1511830799@www.stegi-chorus.gr
SUMMARY:Αφιέρωμα στο Νίκο Γκάτσο (Τρίπολη)
DESCRIPTION:4ήμερο (24\, 25\, 26 και 27 Νοέμβρη 2017) με ποικίλες εκδηλώσεις (χορωδίες\, ομιλίες\, κοντσέρτα…)\, στην καρδιά της πόλης\, το Μαλλιαροπούλειο θέατρο! \nΘέλουμε\, να πιστεύουμε\, ότι ο λαός της Τρίπολης και της Αρκαδίας\, όπως και ο Δήμος Τρίπολης και η Περιφέρεια -Αντιπεριφέρεια- Πελοποννήσου θ’ αγκαλιάσει τον καινούργιο θεσμό\, κάτι\, που\, πριν από χρόνια\, έπρεπε να είχε ανεβεί στις ράγες…· όμως\, “ποτέ δεν είναι αργά” για μια σοβαρή θέσπιση και διοργάνωση από έναν\, εξίσου\, σοβαρό\, και γνώστη του αντικειμένου\, καλλιτεχνικό φορέα\, όπως είναι η Χ.Τ…. \nΉταν καιρός να υλοποιήσουμε κάτι το μεγάλο και αντάξιο του ΝΙΚΟΥ ΓΚΑΤΣΟΥ\, του δικού μας Ν. ΓΚ.\, τον οποίο τιμούν άλλες πόλεις\, κι εμείς\, αν και καταδικός μας\, πλην αυτού του Ασεάτικου θερινού με τον Μητσιά… ουδέν άλλο! \nΓια περισσότερες λεπτομέρειες\, η Χ.Τ. θα επανέλθει\, μέσα στον Οκτώβρη\, για Πρόγραμμα\, ονόματα κ.λ.π. \n 
URL:https://www.stegi-chorus.gr/event/%ce%b1%cf%86%ce%b9%ce%ad%cf%81%cf%89%ce%bc%ce%b1-%cf%83%cf%84%ce%bf-%ce%bd%ce%af%ce%ba%ce%bf-%ce%b3%ce%ba%ce%ac%cf%84%cf%83%ce%bf-%cf%84%cf%81%ce%af%cf%80%ce%bf%ce%bb%ce%b7/
LOCATION:Μαλλιαροπούλειο Δημοτικό Θέατρο Τρίπολης\, Πλατεία Πετρινού\, Τρίπολη\, Ελλάδα
CATEGORIES:Εκδηλώσεις Μελών
END:VEVENT
BEGIN:VEVENT
DTSTART;TZID=Europe/Athens:20171125T100000
DTEND;TZID=Europe/Athens:20171126T170000
DTSTAMP:20260419T230156
CREATED:20171121T003920Z
LAST-MODIFIED:20171121T005228Z
UID:6165-1511604000-1511715600@www.stegi-chorus.gr
SUMMARY:Διεθνές Σεμινάριο Μουσικοπαιδαγωγικού Συστήματος Kodály
DESCRIPTION:Η Πρεσβεία της Ουγγαρίας στην Αθήνα σε συνεργασία με το Ωδείο Kodály\nκαι το Ινστιτούτο Kodály της Μουσικής Ακαδημίας Liszt (Ουγγαρίας)\nδιοργανώνει ΔΙΕΘΝΕΣ ΣΕΜΙΝΑΡΙΟ Μουσικοπαιδαγωγικού Συστήματος Kodály\nτο Σάββατο 25 και την Κυριακή 26 Νοεμβρίου 2017\, 10 π.μ. – 5 μ.μ.\nστην Αίθουσα Συναυλιών “Κώστας Πασχάλης” του Ωδείου Kodály\n(Κύπρου 61\, Χαλάνδρι – Πίσω από τον Εγκέφαλο – Απέναντι από ΟΑΚΑ) \nΔιδάσκουν:\nDr. László Robert Nemes\, Διευθυντής του Ουγγρικού Ινστιτούτου Kodály\nΕιρήνη Πατσέα\, Μουσικοπαιδαγωγός (ΜΑ Μ.Σ. Kodály)\nΜιχάλης Πατσέας\, Διευθυντής του Ωδείου Kodály \nΣυμμετοχή Δωρεάν:\nΜΟΝΟ αφού συμπληρώσετε την ΑΙΤΗΣΗ διαδικτυακά  ή  στο kodalycon2@gmail.com\nΤηλ. επικοινωνίας: 2106824940\, 6942488794
URL:https://www.stegi-chorus.gr/event/%ce%b4%ce%b9%ce%b5%ce%b8%ce%bd%ce%ad%cf%82-%cf%83%ce%b5%ce%bc%ce%b9%ce%bd%ce%ac%cf%81%ce%b9%ce%bf-%ce%bc%ce%bf%cf%85%cf%83%ce%b9%ce%ba%ce%bf%cf%80%ce%b1%ce%b9%ce%b4%ce%b1%ce%b3%cf%89%ce%b3%ce%b9%ce%ba/
LOCATION:Ωδείο Kodály\, Κύπρου 61\, Χαλάνδρι\, 15233\, Ελλάδα
CATEGORIES:Εκδηλώσεις Μελών,Προτάσεις
ATTACH;FMTTYPE=image/png:https://www.stegi-chorus.gr/wp-content/uploads/2017/11/Kodaly.Gr-171125-Seminar.png
ORGANIZER;CN="%CE%A9%CE%B4%CE%B5%CE%AF%CE%BF KODALY - %CE%A7%CE%BF%CF%81%CF%89%CE%B4%CE%AF%CE%B5%CF%82 %CE%A9%CE%B4%CE%B5%CE%AF%CE%BF%CF%85 %CE%9A%CE%9FDALY":MAILTO:info@kodaly.gr
END:VEVENT
BEGIN:VEVENT
DTSTART;TZID=Europe/Athens:20171126T103000
DTEND;TZID=Europe/Athens:20171126T103000
DTSTAMP:20260419T230156
CREATED:20171031T123736Z
LAST-MODIFIED:20171031T123739Z
UID:6121-1511692200-1511692200@www.stegi-chorus.gr
SUMMARY:Απολογιστική Γενική Συνέλευση ΣΤΕΓΗΣ ΕΛΛΗΝΙΚΩΝ ΧΟΡΩΔΙΩΝ
DESCRIPTION:Αναλυτικές πληροφορίες: http://wp.me/p7mtQQ-1Ay \n 
URL:https://www.stegi-chorus.gr/event/%ce%b1%cf%80%ce%bf%ce%bb%ce%bf%ce%b3%ce%b9%cf%83%cf%84%ce%b9%ce%ba%ce%ae-%ce%b3%ce%b5%ce%bd%ce%b9%ce%ba%ce%ae-%cf%83%cf%85%ce%bd%ce%ad%ce%bb%ce%b5%cf%85%cf%83%ce%b7-%cf%83%cf%84%ce%b5%ce%b3%ce%b7/
LOCATION:Δημαρχείο Παπάγου – Χολαργού\, Περικλέους 55\, Χολαργός\, Ελλάδα
CATEGORIES:Εκδηλώσεις Μελών
ATTACH;FMTTYPE=image/jpeg:https://www.stegi-chorus.gr/wp-content/uploads/2016/01/stegi-logo-2015-front300.jpg
END:VEVENT
END:VCALENDAR