BEGIN:VCALENDAR
VERSION:2.0
PRODID:-//Στέγη Ελληνικών Χορωδιών - ECPv6.6.4.2//NONSGML v1.0//EN
CALSCALE:GREGORIAN
METHOD:PUBLISH
X-WR-CALNAME:Στέγη Ελληνικών Χορωδιών
X-ORIGINAL-URL:https://www.stegi-chorus.gr
X-WR-CALDESC:Events for Στέγη Ελληνικών Χορωδιών
REFRESH-INTERVAL;VALUE=DURATION:PT1H
X-Robots-Tag:noindex
X-PUBLISHED-TTL:PT1H
BEGIN:VTIMEZONE
TZID:Europe/Athens
BEGIN:DAYLIGHT
TZOFFSETFROM:+0200
TZOFFSETTO:+0300
TZNAME:EEST
DTSTART:20170326T010000
END:DAYLIGHT
BEGIN:STANDARD
TZOFFSETFROM:+0300
TZOFFSETTO:+0200
TZNAME:EET
DTSTART:20171029T010000
END:STANDARD
END:VTIMEZONE
BEGIN:VEVENT
DTSTART;VALUE=DATE:20171124
DTEND;VALUE=DATE:20171129
DTSTAMP:20260419T230042
CREATED:20171018T075826Z
LAST-MODIFIED:20171018T080406Z
UID:6094-1511485200-1511830799@www.stegi-chorus.gr
SUMMARY:Αφιέρωμα στο Νίκο Γκάτσο (Τρίπολη)
DESCRIPTION:4ήμερο (24\, 25\, 26 και 27 Νοέμβρη 2017) με ποικίλες εκδηλώσεις (χορωδίες\, ομιλίες\, κοντσέρτα…)\, στην καρδιά της πόλης\, το Μαλλιαροπούλειο θέατρο! \nΘέλουμε\, να πιστεύουμε\, ότι ο λαός της Τρίπολης και της Αρκαδίας\, όπως και ο Δήμος Τρίπολης και η Περιφέρεια -Αντιπεριφέρεια- Πελοποννήσου θ’ αγκαλιάσει τον καινούργιο θεσμό\, κάτι\, που\, πριν από χρόνια\, έπρεπε να είχε ανεβεί στις ράγες…· όμως\, “ποτέ δεν είναι αργά” για μια σοβαρή θέσπιση και διοργάνωση από έναν\, εξίσου\, σοβαρό\, και γνώστη του αντικειμένου\, καλλιτεχνικό φορέα\, όπως είναι η Χ.Τ…. \nΉταν καιρός να υλοποιήσουμε κάτι το μεγάλο και αντάξιο του ΝΙΚΟΥ ΓΚΑΤΣΟΥ\, του δικού μας Ν. ΓΚ.\, τον οποίο τιμούν άλλες πόλεις\, κι εμείς\, αν και καταδικός μας\, πλην αυτού του Ασεάτικου θερινού με τον Μητσιά… ουδέν άλλο! \nΓια περισσότερες λεπτομέρειες\, η Χ.Τ. θα επανέλθει\, μέσα στον Οκτώβρη\, για Πρόγραμμα\, ονόματα κ.λ.π. \n 
URL:https://www.stegi-chorus.gr/event/%ce%b1%cf%86%ce%b9%ce%ad%cf%81%cf%89%ce%bc%ce%b1-%cf%83%cf%84%ce%bf-%ce%bd%ce%af%ce%ba%ce%bf-%ce%b3%ce%ba%ce%ac%cf%84%cf%83%ce%bf-%cf%84%cf%81%ce%af%cf%80%ce%bf%ce%bb%ce%b7/
LOCATION:Μαλλιαροπούλειο Δημοτικό Θέατρο Τρίπολης\, Πλατεία Πετρινού\, Τρίπολη\, Ελλάδα
CATEGORIES:Εκδηλώσεις Μελών
END:VEVENT
END:VCALENDAR