BEGIN:VCALENDAR
VERSION:2.0
PRODID:-//Στέγη Ελληνικών Χορωδιών - ECPv6.6.4.2//NONSGML v1.0//EN
CALSCALE:GREGORIAN
METHOD:PUBLISH
X-WR-CALNAME:Στέγη Ελληνικών Χορωδιών
X-ORIGINAL-URL:https://www.stegi-chorus.gr
X-WR-CALDESC:Events for Στέγη Ελληνικών Χορωδιών
REFRESH-INTERVAL;VALUE=DURATION:PT1H
X-Robots-Tag:noindex
X-PUBLISHED-TTL:PT1H
BEGIN:VTIMEZONE
TZID:Europe/Athens
BEGIN:DAYLIGHT
TZOFFSETFROM:+0200
TZOFFSETTO:+0300
TZNAME:EEST
DTSTART:20170326T010000
END:DAYLIGHT
BEGIN:STANDARD
TZOFFSETFROM:+0300
TZOFFSETTO:+0200
TZNAME:EET
DTSTART:20171029T010000
END:STANDARD
END:VTIMEZONE
BEGIN:VEVENT
DTSTART;TZID=Europe/Athens:20171203T203000
DTEND;TZID=Europe/Athens:20171203T223000
DTSTAMP:20260419T230110
CREATED:20171201T014120Z
LAST-MODIFIED:20171201T014429Z
UID:6248-1512333000-1512340200@www.stegi-chorus.gr
SUMMARY:ΕΤΟΣ KODÁLY - Β' ΣΥΝΑΥΛΙΑ ΩΔΕΙΟΥ KODÁLY
DESCRIPTION:Η Πρεσβεία της Ουγγαρίας στην Αθήνα και το Ωδείο Κόνταλυ – Kodály Conservatory (Greece)\, σε συνεργασία με την Ελληνική Εταιρεία Kodály\, διοργανώνουν μεγάλη συναυλία με την συμμετοχή Καθηγητών του Ωδείου\, της Παιδικής και της Μικτής Χορωδίας του Ωδείου Kodály\, υπό την διεύθυνση του Μιχάλη Πατσέα\, συμβάλλοντας στον διεθνή εορτασμό του έτους Kodály (135 χρόνια από την γέννησή του / 50 χρόνια από τον θάνατό του). \nΚυριακή 3 Δεκεμβρίου 2017\, στις 8.30 μ.μ.\,\nστην Αίθουσα Συναυλιών του Φιλολογικού Συλλόγου “Παρνασσός”\,\nΠλατεία Καρύτση\, Αθήνα. (Μετρο: Πανεπιστήμιο).\n– ΕΙΣΟΔΟΣ ΕΛΕΥΘΕΡΗ – \n\nΘα ερμηνευτούν έργα του Zoltán Kodály:\n*Σονάτα για σόλο βιολοντσέλο: Angelos Liakakis\n*Επιγράμματα: Φλάουτο: Melina Makri\, Σαξόφωνο: Stella Arabatzoglou\n*Adagio για βιολί και πιάνο: Βιολί: Maria Michailidou\n– Πιάνο: Elke Robersscheuten \nΠαιδική και Μικτή Χορωδία του Ωδείου Kodály\nΒοηθός στη διδασκαλία: George Tziatziafis\nΔιεύθυνση: Μιχάλης Πατσέας
URL:https://www.stegi-chorus.gr/event/%ce%b5%cf%84%ce%bf%cf%83-kodaly-%ce%b2-%cf%83%cf%85%ce%bd%ce%b1%cf%85%ce%bb%ce%b9%ce%b1-%cf%89%ce%b4%ce%b5%ce%b9%ce%bf%cf%85-kodaly/
LOCATION:Φιλολογικός Σύλλογος Παρνασσός\, Πλατεία Καρύτση\, Αθήνα\, Αττική\, Ελλάδα
CATEGORIES:Εκδηλώσεις Μελών,Προτάσεις
ATTACH;FMTTYPE=image/png:https://www.stegi-chorus.gr/wp-content/uploads/2017/12/Kodaly.Gr-171203-Parnassos.png
END:VEVENT
END:VCALENDAR