BEGIN:VCALENDAR
VERSION:2.0
PRODID:-//Στέγη Ελληνικών Χορωδιών - ECPv6.6.4.2//NONSGML v1.0//EN
CALSCALE:GREGORIAN
METHOD:PUBLISH
X-WR-CALNAME:Στέγη Ελληνικών Χορωδιών
X-ORIGINAL-URL:https://www.stegi-chorus.gr
X-WR-CALDESC:Events for Στέγη Ελληνικών Χορωδιών
REFRESH-INTERVAL;VALUE=DURATION:PT1H
X-Robots-Tag:noindex
X-PUBLISHED-TTL:PT1H
BEGIN:VTIMEZONE
TZID:Europe/Athens
BEGIN:DAYLIGHT
TZOFFSETFROM:+0200
TZOFFSETTO:+0300
TZNAME:EEST
DTSTART:20170326T010000
END:DAYLIGHT
BEGIN:STANDARD
TZOFFSETFROM:+0300
TZOFFSETTO:+0200
TZNAME:EET
DTSTART:20171029T010000
END:STANDARD
END:VTIMEZONE
BEGIN:VEVENT
DTSTART;TZID=Europe/Athens:20171204T200000
DTEND;TZID=Europe/Athens:20171204T220000
DTSTAMP:20260419T230044
CREATED:20171121T182448Z
LAST-MODIFIED:20171121T182448Z
UID:6205-1512417600-1512424800@www.stegi-chorus.gr
SUMMARY:Μίκης Θεοδωράκης: Αρχιπέλαγος και Κρήτη
DESCRIPTION:Μίκης Θεοδωράκης: Αρχιπέλαγος και Κρήτη \nΠαλλάς\, Δευτέρα 4 Δεκεμβρίου 2017\, 8:00 μ.μ.\nΤην Παιδική και την Μικτή Χορωδία του Ωδείου Kodály\nδιευθύνει ο Μιχάλης Πατσέας. \nΣολίστ : Μαίρη Λίντα\nΠιάνο – Καλλιτεχνική Διεύθυνση : Τατιάνα Παπαγεωργίου \nΟρχήστρα και Μπαλέτο της Όπερας του Κιέβου \nΥπό την αιγίδα και με την παρουσία του μεγάλου μας συνθέτη! \n(Η συναυλία ήταν προγραμματισμένη για το Ηρώδειο\, 9 Οκτωβρίου\, αλλά αναβλήθηκε λόγω καιρού)
URL:https://www.stegi-chorus.gr/event/%ce%bc%ce%af%ce%ba%ce%b7%cf%82-%ce%b8%ce%b5%ce%bf%ce%b4%cf%89%cf%81%ce%ac%ce%ba%ce%b7%cf%82-%ce%b1%cf%81%cf%87%ce%b9%cf%80%ce%ad%ce%bb%ce%b1%ce%b3%ce%bf%cf%82-%ce%ba%ce%b1%ce%b9-%ce%ba%cf%81%ce%ae/
LOCATION:ΠΑΛΛΑΣ\, Βουκουρεστίου 5\, Αθήνα\, 10564\, Ελλάδα
CATEGORIES:Εκδηλώσεις Μελών,Προτάσεις
ATTACH;FMTTYPE=image/jpeg:https://www.stegi-chorus.gr/wp-content/uploads/2017/11/171204-Kodaly-Theodorakis-Linda-PALLAS.jpg
END:VEVENT
END:VCALENDAR