BEGIN:VCALENDAR
VERSION:2.0
PRODID:-//Στέγη Ελληνικών Χορωδιών - ECPv6.6.4.2//NONSGML v1.0//EN
CALSCALE:GREGORIAN
METHOD:PUBLISH
X-ORIGINAL-URL:https://www.stegi-chorus.gr
X-WR-CALDESC:Events for Στέγη Ελληνικών Χορωδιών
REFRESH-INTERVAL;VALUE=DURATION:PT1H
X-Robots-Tag:noindex
X-PUBLISHED-TTL:PT1H
BEGIN:VTIMEZONE
TZID:Europe/Athens
BEGIN:DAYLIGHT
TZOFFSETFROM:+0200
TZOFFSETTO:+0300
TZNAME:EEST
DTSTART:20170326T010000
END:DAYLIGHT
BEGIN:STANDARD
TZOFFSETFROM:+0300
TZOFFSETTO:+0200
TZNAME:EET
DTSTART:20171029T010000
END:STANDARD
END:VTIMEZONE
BEGIN:VEVENT
DTSTART;TZID=Europe/Athens:20171214T200000
DTEND;TZID=Europe/Athens:20171214T200000
DTSTAMP:20260419T230156
CREATED:20171208T082307Z
LAST-MODIFIED:20171208T082307Z
UID:6288-1513281600-1513281600@www.stegi-chorus.gr
SUMMARY:Χριστουγεννιάτικη Συναυλία Δήμου Φιλοθέης - Ψυχικού
DESCRIPTION:Πέμπτη 14 Δεκεμβρίου 2017\, 20:15
URL:https://www.stegi-chorus.gr/event/%cf%87%cf%81%ce%b9%cf%83%cf%84%ce%bf%cf%85%ce%b3%ce%b5%ce%bd%ce%bd%ce%b9%ce%ac%cf%84%ce%b9%ce%ba%ce%b7-%cf%83%cf%85%ce%bd%ce%b1%cf%85%ce%bb%ce%af%ce%b1-%ce%b4%ce%ae%ce%bc%ce%bf%cf%85-%cf%86%ce%b9/
CATEGORIES:Εκδηλώσεις Μελών
ATTACH;FMTTYPE=image/jpeg:https://www.stegi-chorus.gr/wp-content/uploads/2017/12/filoth-xrist17.jpg
END:VEVENT
END:VCALENDAR