BEGIN:VCALENDAR
VERSION:2.0
PRODID:-//Στέγη Ελληνικών Χορωδιών - ECPv6.6.4.2//NONSGML v1.0//EN
CALSCALE:GREGORIAN
METHOD:PUBLISH
X-ORIGINAL-URL:https://www.stegi-chorus.gr
X-WR-CALDESC:Events for Στέγη Ελληνικών Χορωδιών
REFRESH-INTERVAL;VALUE=DURATION:PT1H
X-Robots-Tag:noindex
X-PUBLISHED-TTL:PT1H
BEGIN:VTIMEZONE
TZID:Europe/Athens
BEGIN:DAYLIGHT
TZOFFSETFROM:+0200
TZOFFSETTO:+0300
TZNAME:EEST
DTSTART:20180325T010000
END:DAYLIGHT
BEGIN:STANDARD
TZOFFSETFROM:+0300
TZOFFSETTO:+0200
TZNAME:EET
DTSTART:20181028T010000
END:STANDARD
END:VTIMEZONE
BEGIN:VEVENT
DTSTART;TZID=Europe/Athens:20180217T200000
DTEND;TZID=Europe/Athens:20180217T200000
DTSTAMP:20260419T201157
CREATED:20180208T064537Z
LAST-MODIFIED:20180208T064615Z
UID:6439-1518897600-1518897600@www.stegi-chorus.gr
SUMMARY:Φιλανθρωπική Συναυλία της "ΣΟΝΕ"
DESCRIPTION:Συναυλία της Συμφωνικής Ορχήστρας Νέων Ελλάδος (Youth Symphony Orchestra of Greece) για τα παιδιά της Παιδοογκολογικής Μονάδας του ΑΧΕΠΑ Βελλίδειο Συνεδριακό Κέντρο Σάββατο 17 Φεβρουαρίου 2018\, στις 20:00 \nΣυμμετέχουν: ο Τενόρος Σταύρος Σαλαμπασόπουλος\, ο Ιωάννης Λαζόπουλος\, η Άσπα Μαυρίδου και οι τραγουδιστές της ΣΟΝΕ: Έλενα Τιτίρλα & Νικόλας Σαββίδης. \n– Γυναικεία Χορωδία «Νηρηίδες» Δήμου Παλαιού Φαλήρου (Μουσική Διδασκαλία: Κατερίνα Βασιλικού) \n– Γυναικεία Χορωδία »Καλλιτεχνήματα» (Μουσική Διδασκαλία: Μαρία Μιχαλοπούλου) \n– Παιδική Χορωδία Ι.Ν. Αγ. Βαρβάρας Αργυρούπολης (Μουσική Διδασκαλία: Λώρα Πετροπούλου) \n– Παιδική Χορωδία Αιγινίου «Canto Olympus» (Μουσική Διδασκαλία: Μιχάλης Καριοφυλλίδης) \n– »Αγγέλων Φωνές»: Παιδική – Νεανική Χορωδία Ι. Μ. Σερρών & Νιγρίτης (Μουσική Διδασκαλία: Μαρία Κουβακλή) \n– Παιδική – Νεανική Χορωδία Πολιτιστικού Συλλόγου Αθανασίου Χριστόπουλου Καστοριάς (Μουσική Διδασκαλία: Δημήτρης Θεοδωράκης) \n– Παιδική – Νεανική Χορωδία της ΣΟΝΕ (Μουσική Διδασκαλία: Ευάγγελος Αραμπατζής) \n– Το συγκρότημα: Monimas \nΔιευθύνει ο Ευάγγελος Αραμπατζής \nΤα έσοδα της συναυλίας θα διατεθούν στην Παιδοογκολογική μονάδα του ΑΧΕΠΑ. \nΧορηγοί Επικοινωνίας: ΕΡΤ Α.Ε. / ΕΡΤ3 / 102fm ΕΡΤ3 / 9\,58fm ΕΡΤ3
URL:https://www.stegi-chorus.gr/event/%cf%86%ce%b9%ce%bb%ce%b1%ce%bd%ce%b8%cf%81%cf%89%cf%80%ce%b9%ce%ba%ce%ae-%cf%83%cf%85%ce%bd%ce%b1%cf%85%ce%bb%ce%af%ce%b1-%cf%84%ce%b7%cf%82-%cf%83%ce%bf%ce%bd%ce%b5/
CATEGORIES:Εκδηλώσεις Μελών
END:VEVENT
END:VCALENDAR